FILENAME: O4610854.NWS.1006151.tif
QUADRANGLE_NAME: DUNN MOUNTAIN SOUTH
QUADRANT: NW
WEST_LONGITUDE: -108 22 30.00000
EAST_LONGITUDE: -108 18 45.00000
NORTH_LATITUDE: 46 15 0.00000
SOUTH_LATITUDE: 46 11 15.00000
PRODUCTION_DATE: 1999 4 20
RASTER_ORDER: LEFT_RIGHT/TOP_BOTTOM
BAND_ORGANIZATION: SINGLE FILE
BAND_CONTENT: BLACK&WHITE
BAND_CONTENT: UNDEFINED
BAND_CONTENT: UNDEFINED
BITS_PER_PIXEL: 8
SAMPLES_AND_LINES: 5709 7714
HORIZONTAL_DATUM: NAD83
HORIZONTAL_COORDINATE_SYSTEM: UTM
COORDINATE_ZONE: 12
HORIZONTAL_UNITS: METERS
HORIZONTAL_RESOLUTION: 1.00000
SECONDARY_HORIZONTAL_DATUM: NAD27
XY_ORIGIN: 701985.00000 5125636.00000
SECONDARY_XY_ORIGIN: 702043.59400 5125423.58200
NATION: US
NATION: "SCIENCE
STATE: MT
NW_QUAD_CORNER_XY: 702339.45300 5125174.18400
NE_QUAD_CORNER_XY: 707156.91000 5125335.63200
SE_QUAD_CORNERY_XY: 707392.24900 5118391.50400
SW_QUAD_CORNER_XY: 702569.31200 5118230.04100
SECONDARY_NW_QUAD_XY: 702345.59100 5124956.15300
SECONDARY_NE_QUAD_XY: 707163.19400 5125117.60600
SECONDARY_SE_QUAD_XY: 707398.53200 5118173.51700
SECONDARY_SW_QUAD_XY: 702575.44800 5118012.04900
RMSE_XY: 1.90000
IMAGE_SOURCE: BLACK AND WHITE FILM
SOURCE_IMAGE_ID: NAPP 9137 072
SOURCE_IMAGE_DATE: 1996 08 23
SOURCE_IMAGE_ID: NAPP 9137 150
SOURCE_IMAGE_DATE: 1996 08 23
SOURCE_IMAGE_ID: NAPP 9137 073
SOURCE_IMAGE_DATE: 1996 08 23
SOURCE_IMAGE_ID: NAPP 9137 071
SOURCE_IMAGE_DATE: 1996 08 23
SOURCE_DEM_DATE: 1989 00 00
AGENCY: WESTERN MAPPING CENTER (WMC)
PRODUCER: UNDEFINED
PRODUCTION_SYSTEM: GIS/MAGIC
COMPRESSION: UNDEFINED
STANDARD_VERSION: 1996 12
METADATA_DATE: 1999 05 18
DATA_FILE_SIZE: 44044935
BYTE_COUNT: 5709
