FILENAME: O4610856.SWS.1006466.tif
QUADRANGLE_NAME: P K RANCH NE
QUADRANT: SW
WEST_LONGITUDE: -108 7 30.00000
EAST_LONGITUDE: -108 3 45.00000
NORTH_LATITUDE: 46 11 15.00000
SOUTH_LATITUDE: 46 7 30.00000
PRODUCTION_DATE: 1999 4 21
RASTER_ORDER: LEFT_RIGHT/TOP_BOTTOM
BAND_ORGANIZATION: SINGLE FILE
BAND_CONTENT: BLACK&WHITE
BAND_CONTENT: UNDEFINED
BAND_CONTENT: UNDEFINED
BITS_PER_PIXEL: 8
SAMPLES_AND_LINES: 5734 7729
HORIZONTAL_DATUM: NAD83
HORIZONTAL_COORDINATE_SYSTEM: UTM
COORDINATE_ZONE: 12
HORIZONTAL_UNITS: METERS
HORIZONTAL_RESOLUTION: 1.00000
SECONDARY_HORIZONTAL_DATUM: NAD27
XY_ORIGIN: 721508.00000 5119376.00000
SECONDARY_XY_ORIGIN: 721566.32100 5119163.30100
NATION: US
NATION: "SCIENCE
STATE: MT
NW_QUAD_CORNER_XY: 721860.99800 5118898.72100
NE_QUAD_CORNER_XY: 726683.89300 5119075.40400
SE_QUAD_CORNERY_XY: 726940.88700 5112131.39500
SW_QUAD_CORNER_XY: 722112.51500 5111954.69600
SECONDARY_NW_QUAD_XY: 721867.72000 5118680.74900
SECONDARY_NE_QUAD_XY: 726690.76100 5118857.43700
SECONDARY_SE_QUAD_XY: 726947.75300 5111913.46800
SECONDARY_SW_QUAD_XY: 722119.23500 5111736.76400
RMSE_XY: 1.10000
IMAGE_SOURCE: BLACK AND WHITE FILM
SOURCE_IMAGE_ID: NAPP 9142 244
SOURCE_IMAGE_DATE: 1996 08 24
SOURCE_IMAGE_ID: NAPP 9143 043
SOURCE_IMAGE_DATE: 1996 08 24
SOURCE_DEM_DATE: 1973 00 00
AGENCY: WESTERN MAPPING CENTER (WMC)
PRODUCER: UNDEFINED
PRODUCTION_SYSTEM: GIS/MAGIC
COMPRESSION: UNDEFINED
STANDARD_VERSION: 1996 12
METADATA_DATE: 1999 05 18
DATA_FILE_SIZE: 44323820
BYTE_COUNT: 5734
