FILENAME: O4610856.NWS.1006464.tif
QUADRANGLE_NAME: P K RANCH NE
QUADRANT: NW
WEST_LONGITUDE: -108 7 30.00000
EAST_LONGITUDE: -108 3 45.00000
NORTH_LATITUDE: 46 15 0.00000
SOUTH_LATITUDE: 46 11 15.00000
PRODUCTION_DATE: 1999 4 21
RASTER_ORDER: LEFT_RIGHT/TOP_BOTTOM
BAND_ORGANIZATION: SINGLE FILE
BAND_CONTENT: BLACK&WHITE
BAND_CONTENT: UNDEFINED
BAND_CONTENT: UNDEFINED
BITS_PER_PIXEL: 8
SAMPLES_AND_LINES: 5729 7729
HORIZONTAL_DATUM: NAD83
HORIZONTAL_COORDINATE_SYSTEM: UTM
COORDINATE_ZONE: 12
HORIZONTAL_UNITS: METERS
HORIZONTAL_RESOLUTION: 1.00000
SECONDARY_HORIZONTAL_DATUM: NAD27
XY_ORIGIN: 721256.00000 5126320.00000
SECONDARY_XY_ORIGIN: 721314.20700 5126107.07900
NATION: US
NATION: "SCIENCE
STATE: MT
NW_QUAD_CORNER_XY: 721609.21600 5125842.80200
NE_QUAD_CORNER_XY: 726426.62800 5126019.46900
SE_QUAD_CORNERY_XY: 726683.89300 5119075.40400
SW_QUAD_CORNER_XY: 721860.99800 5118898.72100
SECONDARY_NW_QUAD_XY: 721615.93800 5125624.79200
SECONDARY_NE_QUAD_XY: 726433.49700 5125801.46400
SECONDARY_SE_QUAD_XY: 726690.76100 5118857.43700
SECONDARY_SW_QUAD_XY: 721867.72000 5118680.74900
RMSE_XY: 1.00000
IMAGE_SOURCE: BLACK AND WHITE FILM
SOURCE_IMAGE_ID: NAPP 9142 242
SOURCE_IMAGE_DATE: 1996 08 24
SOURCE_IMAGE_ID: NAPP 9143 045
SOURCE_IMAGE_DATE: 1996 08 24
SOURCE_IMAGE_ID: NAPP 9142 244
SOURCE_IMAGE_DATE: 1996 08 24
SOURCE_IMAGE_ID: NAPP 9142 241
SOURCE_IMAGE_DATE: 1996 08 24
SOURCE_DEM_DATE: 1973 00 00
AGENCY: WESTERN MAPPING CENTER (WMC)
PRODUCER: UNDEFINED
PRODUCTION_SYSTEM: GIS/MAGIC
COMPRESSION: UNDEFINED
STANDARD_VERSION: 1996 12
METADATA_DATE: 1999 05 18
DATA_FILE_SIZE: 44285170
BYTE_COUNT: 5729
