FILENAME: O4610856.NES.1006463.tif
QUADRANGLE_NAME: P K RANCH NE
QUADRANT: NE
WEST_LONGITUDE: -108 3 45.00000
EAST_LONGITUDE: -108 0 0.00000
NORTH_LATITUDE: 46 15 0.00000
SOUTH_LATITUDE: 46 11 15.00000
PRODUCTION_DATE: 1999 4 21
RASTER_ORDER: LEFT_RIGHT/TOP_BOTTOM
BAND_ORGANIZATION: SINGLE FILE
BAND_CONTENT: BLACK&WHITE
BAND_CONTENT: UNDEFINED
BAND_CONTENT: UNDEFINED
BITS_PER_PIXEL: 8
SAMPLES_AND_LINES: 5734 7732
HORIZONTAL_DATUM: NAD83
HORIZONTAL_COORDINATE_SYSTEM: UTM
COORDINATE_ZONE: 12
HORIZONTAL_UNITS: METERS
HORIZONTAL_RESOLUTION: 1.00000
SECONDARY_HORIZONTAL_DATUM: NAD27
XY_ORIGIN: 726074.00000 5126500.00000
SECONDARY_XY_ORIGIN: 726132.09100 5126286.91700
NATION: US
NATION: "SCIENCE
STATE: MT
NW_QUAD_CORNER_XY: 726426.62800 5126019.46900
NE_QUAD_CORNER_XY: 731244.02900 5126199.94100
SE_QUAD_CORNERY_XY: 731506.77700 5119255.89300
SW_QUAD_CORNER_XY: 726683.89300 5119075.40400
SECONDARY_NW_QUAD_XY: 726433.49700 5125801.46400
SECONDARY_NE_QUAD_XY: 731251.04400 5125981.94200
SECONDARY_SE_QUAD_XY: 731513.79100 5119037.93200
SECONDARY_SW_QUAD_XY: 726690.76100 5118857.43700
RMSE_XY: 1.20000
IMAGE_SOURCE: BLACK AND WHITE FILM
SOURCE_IMAGE_ID: NAPP 9142 061
SOURCE_IMAGE_DATE: 1996 08 24
SOURCE_IMAGE_ID: NAPP 9142 242
SOURCE_IMAGE_DATE: 1996 08 24
SOURCE_DEM_DATE: 1973 00 00
AGENCY: WESTERN MAPPING CENTER (WMC)
PRODUCER: UNDEFINED
PRODUCTION_SYSTEM: GIS/MAGIC
COMPRESSION: UNDEFINED
STANDARD_VERSION: 1996 12
METADATA_DATE: 1999 05 18
DATA_FILE_SIZE: 44341022
BYTE_COUNT: 5734
