FILENAME: O4610858.SWS.1005800.tif
QUADRANGLE_NAME: BROADVIEW EAST
QUADRANT: SW
WEST_LONGITUDE: -108 52 30.00000
EAST_LONGITUDE: -108 48 45.00000
NORTH_LATITUDE: 46 3 45.00000
SOUTH_LATITUDE: 46 0 0.00000
PRODUCTION_DATE: 1999 4 13
RASTER_ORDER: LEFT_RIGHT/TOP_BOTTOM
BAND_ORGANIZATION: SINGLE FILE
BAND_CONTENT: BLACK&WHITE
BAND_CONTENT: UNDEFINED
BAND_CONTENT: UNDEFINED
BITS_PER_PIXEL: 8
SAMPLES_AND_LINES: 5682 7685
HORIZONTAL_DATUM: NAD83
HORIZONTAL_COORDINATE_SYSTEM: UTM
COORDINATE_ZONE: 12
HORIZONTAL_UNITS: METERS
HORIZONTAL_RESOLUTION: 1.00000
SECONDARY_HORIZONTAL_DATUM: NAD27
XY_ORIGIN: 664001.00000 5103619.00000
SECONDARY_XY_ORIGIN: 664060.58600 5103407.77200
NATION: US
NATION: "SCIENCE
STATE: MT
NW_QUAD_CORNER_XY: 664356.95800 5103186.95700
NE_QUAD_CORNER_XY: 669190.90300 5103318.01900
SE_QUAD_CORNERY_XY: 669381.80600 5096373.97800
SW_QUAD_CORNER_XY: 664542.40100 5096242.90700
SECONDARY_NW_QUAD_XY: 664361.92300 5102969.01100
SECONDARY_NE_QUAD_XY: 669196.01400 5103100.07600
SECONDARY_SE_QUAD_XY: 669386.91600 5096156.07700
SECONDARY_SW_QUAD_XY: 664547.36600 5096025.00200
RMSE_XY: 1.00000
IMAGE_SOURCE: BLACK AND WHITE FILM
SOURCE_IMAGE_ID: NAPP 9157 014
SOURCE_IMAGE_DATE: 1997 09 05
SOURCE_DEM_DATE: 1979 00 00
AGENCY: WESTERN MAPPING CENTER (WMC)
PRODUCER: UNDEFINED
PRODUCTION_SYSTEM: GIS/MAGIC
COMPRESSION: UNDEFINED
STANDARD_VERSION: 1996 12
METADATA_DATE: 1999 05 18
DATA_FILE_SIZE: 43671852
BYTE_COUNT: 5682
