FILENAME: O4610859.NES.1005801.tif
QUADRANGLE_NAME: HAY BASIN SOUTH
QUADRANT: NE
WEST_LONGITUDE: -108 41 15.00000
EAST_LONGITUDE: -108 37 30.00000
NORTH_LATITUDE: 46 7 30.00000
SOUTH_LATITUDE: 46 3 45.00000
PRODUCTION_DATE: 1999 4 13
RASTER_ORDER: LEFT_RIGHT/TOP_BOTTOM
BAND_ORGANIZATION: SINGLE FILE
BAND_CONTENT: BLACK&WHITE
BAND_CONTENT: UNDEFINED
BAND_CONTENT: UNDEFINED
BITS_PER_PIXEL: 8
SAMPLES_AND_LINES: 5693 7697
HORIZONTAL_DATUM: NAD83
HORIZONTAL_COORDINATE_SYSTEM: UTM
COORDINATE_ZONE: 12
HORIZONTAL_UNITS: METERS
HORIZONTAL_RESOLUTION: 1.00000
SECONDARY_HORIZONTAL_DATUM: NAD27
XY_ORIGIN: 678301.00000 5110979.00000
SECONDARY_XY_ORIGIN: 678360.21500 5110767.42900
NATION: US
NATION: "SCIENCE
STATE: MT
NW_QUAD_CORNER_XY: 678656.73400 5110535.63300
NE_QUAD_CORNER_XY: 683485.19000 5110678.09100
SE_QUAD_CORNERY_XY: 683692.69300 5103734.01900
SW_QUAD_CORNER_XY: 678858.77000 5103591.55000
SECONDARY_NW_QUAD_XY: 678662.13900 5110317.65800
SECONDARY_NE_QUAD_XY: 683490.74100 5110460.12100
SECONDARY_SE_QUAD_XY: 683698.24200 5103516.08900
SECONDARY_SW_QUAD_XY: 678864.17400 5103373.61500
RMSE_XY: 1.20000
IMAGE_SOURCE: BLACK AND WHITE FILM
SOURCE_IMAGE_ID: NAPP 9138 301
SOURCE_IMAGE_DATE: 1996 08 23
SOURCE_IMAGE_ID: NAPP 9140 012
SOURCE_IMAGE_DATE: 1996 08 23
SOURCE_DEM_DATE: 1973 00 00
AGENCY: WESTERN MAPPING CENTER (WMC)
PRODUCER: UNDEFINED
PRODUCTION_SYSTEM: GIS/MAGIC
COMPRESSION: UNDEFINED
STANDARD_VERSION: 1996 12
METADATA_DATE: 1999 05 18
DATA_FILE_SIZE: 43824714
BYTE_COUNT: 5693
