FILENAME: O4610861.SES.1006011.tif
QUADRANGLE_NAME: NORTH FORK CROOKED CREEK EAST
QUADRANT: SE
WEST_LONGITUDE: -108 26 15.00000
EAST_LONGITUDE: -108 22 30.00000
NORTH_LATITUDE: 46 3 45.00000
SOUTH_LATITUDE: 46 0 0.00000
PRODUCTION_DATE: 1999 4 14
RASTER_ORDER: LEFT_RIGHT/TOP_BOTTOM
BAND_ORGANIZATION: SINGLE FILE
BAND_CONTENT: BLACK&WHITE
BAND_CONTENT: UNDEFINED
BAND_CONTENT: UNDEFINED
BITS_PER_PIXEL: 8
SAMPLES_AND_LINES: 5719 7711
HORIZONTAL_DATUM: NAD83
HORIZONTAL_COORDINATE_SYSTEM: UTM
COORDINATE_ZONE: 12
HORIZONTAL_UNITS: METERS
HORIZONTAL_RESOLUTION: 1.00000
SECONDARY_HORIZONTAL_DATUM: NAD27
XY_ORIGIN: 697840.00000 5104642.00000
SECONDARY_XY_ORIGIN: 697899.02900 5104430.42400
NATION: US
NATION: "SCIENCE
STATE: MT
NW_QUAD_CORNER_XY: 698194.41100 5104184.25100
NE_QUAD_CORNER_XY: 703028.30000 5104341.93600
SE_QUAD_CORNERY_XY: 703257.43100 5097397.97400
SW_QUAD_CORNER_XY: 698418.07900 5097240.27700
SECONDARY_NW_QUAD_XY: 698200.39900 5103966.33400
SECONDARY_NE_QUAD_XY: 703034.43500 5104124.02400
SECONDARY_SE_QUAD_XY: 703263.56300 5097180.10400
SECONDARY_SW_QUAD_XY: 698424.06500 5097022.40200
RMSE_XY: 1.10000
IMAGE_SOURCE: BLACK AND WHITE FILM
SOURCE_IMAGE_ID: NAPP 9137 145
SOURCE_IMAGE_DATE: 1996 08 23
SOURCE_DEM_DATE: 1973 00 00
AGENCY: WESTERN MAPPING CENTER (WMC)
PRODUCER: UNDEFINED
PRODUCTION_SYSTEM: GIS/MAGIC
COMPRESSION: UNDEFINED
STANDARD_VERSION: 1996 12
METADATA_DATE: 1999 05 18
DATA_FILE_SIZE: 44104928
BYTE_COUNT: 5719
