FILENAME: O4610864.NWS.1006468.tif
QUADRANGLE_NAME: P K RANCH SE
QUADRANT: NW
WEST_LONGITUDE: -108 7 30.00000
EAST_LONGITUDE: -108 3 45.00000
NORTH_LATITUDE: 46 7 30.00000
SOUTH_LATITUDE: 46 3 45.00000
PRODUCTION_DATE: 1999 4 14
RASTER_ORDER: LEFT_RIGHT/TOP_BOTTOM
BAND_ORGANIZATION: SINGLE FILE
BAND_CONTENT: BLACK&WHITE
BAND_CONTENT: UNDEFINED
BAND_CONTENT: UNDEFINED
BITS_PER_PIXEL: 8
SAMPLES_AND_LINES: 5740 7729
HORIZONTAL_DATUM: NAD83
HORIZONTAL_COORDINATE_SYSTEM: UTM
COORDINATE_ZONE: 12
HORIZONTAL_UNITS: METERS
HORIZONTAL_RESOLUTION: 1.00000
SECONDARY_HORIZONTAL_DATUM: NAD27
XY_ORIGIN: 721759.00000 5112432.00000
SECONDARY_XY_ORIGIN: 721817.43400 5112219.52300
NATION: US
NATION: "SCIENCE
STATE: MT
NW_QUAD_CORNER_XY: 722112.51500 5111954.69600
NE_QUAD_CORNER_XY: 726940.88700 5112131.39500
SE_QUAD_CORNERY_XY: 727197.60900 5105187.44200
SW_QUAD_CORNER_XY: 722363.76700 5105010.72900
SECONDARY_NW_QUAD_XY: 722119.23500 5111736.76400
SECONDARY_NE_QUAD_XY: 726947.75300 5111913.46800
SECONDARY_SE_QUAD_XY: 727204.47400 5104969.55600
SECONDARY_SW_QUAD_XY: 722370.48500 5104792.83800
RMSE_XY: 1.10000
IMAGE_SOURCE: BLACK AND WHITE FILM
SOURCE_IMAGE_ID: NAPP 9142 246
SOURCE_IMAGE_DATE: 1996 08 24
SOURCE_IMAGE_ID: NAPP 9142 245
SOURCE_IMAGE_DATE: 1996 08 24
SOURCE_DEM_DATE: 1973 00 00
AGENCY: WESTERN MAPPING CENTER (WMC)
PRODUCER: UNDEFINED
PRODUCTION_SYSTEM: GIS/MAGIC
COMPRESSION: UNDEFINED
STANDARD_VERSION: 1996 12
METADATA_DATE: 1999 05 18
DATA_FILE_SIZE: 44370200
BYTE_COUNT: 5740
