FILENAME: O4610701.SWS.1112121.tif
QUADRANGLE_NAME: MOSBY
QUADRANT: SW
WEST_LONGITUDE: -108 0 0.00000
EAST_LONGITUDE: -107 56 15.00000
NORTH_LATITUDE: 46 56 15.00000
SOUTH_LATITUDE: 46 52 30.00000
PRODUCTION_DATE: 2000 11 16
RASTER_ORDER: LEFT_RIGHT/TOP_BOTTOM
BAND_ORGANIZATION: SINGLE FILE
BAND_CONTENT: BLACK&WHITE
BAND_CONTENT: UNDEFINED
BAND_CONTENT: UNDEFINED
BITS_PER_PIXEL: 8
SAMPLES_AND_LINES: 5677 7728
HORIZONTAL_DATUM: NAD83
HORIZONTAL_COORDINATE_SYSTEM: UTM
COORDINATE_ZONE: 13
HORIZONTAL_UNITS: METERS
HORIZONTAL_RESOLUTION: 1.00000
SECONDARY_HORIZONTAL_DATUM: NAD27
XY_ORIGIN: 271046.00000 5202889.00000
SECONDARY_XY_ORIGIN: 271090.09000 5202670.51600
NATION: US
NATION: "SCIENCE
STATE: MT
NW_QUAD_CORNER_XY: 271664.38800 5202588.13400
NE_QUAD_CORNER_XY: 276421.09800 5202407.90200
SE_QUAD_CORNERY_XY: 276160.87000 5195463.21700
SW_QUAD_CORNER_XY: 271398.61400 5195643.47600
SECONDARY_NW_QUAD_XY: 271657.35900 5202369.76300
SECONDARY_NE_QUAD_XY: 276414.21500 5202189.52500
SECONDARY_SE_QUAD_XY: 276153.98800 5195244.87000
SECONDARY_SW_QUAD_XY: 271391.58600 5195425.13500
RMSE_XY: 3.40000
IMAGE_SOURCE: BLACK AND WHITE FILM
SOURCE_IMAGE_ID: NAPP 9132 166
SOURCE_IMAGE_DATE: 1996 07 29
SOURCE_DEM_DATE: 1961 00 00
AGENCY: WESTERN MAPPING CENTER (WMC)
PRODUCER: UNDEFINED
PRODUCTION_SYSTEM: GIS/MAGIC
COMPRESSION: UNDEFINED
STANDARD_VERSION: 1996 12
METADATA_DATE: 2000 11 16
DATA_FILE_SIZE: 43877533
BYTE_COUNT: 5677
