FILENAME: O4610702.NES.1112130.tif
QUADRANGLE_NAME: HILL RANCH
QUADRANT: NE
WEST_LONGITUDE: -107 48 45.00000
EAST_LONGITUDE: -107 45 0.00000
NORTH_LATITUDE: 47 0 0.00000
SOUTH_LATITUDE: 46 56 15.00000
PRODUCTION_DATE: 2000 11 16
RASTER_ORDER: LEFT_RIGHT/TOP_BOTTOM
BAND_ORGANIZATION: SINGLE FILE
BAND_CONTENT: BLACK&WHITE
BAND_CONTENT: UNDEFINED
BAND_CONTENT: UNDEFINED
BITS_PER_PIXEL: 8
SAMPLES_AND_LINES: 5654 7717
HORIZONTAL_DATUM: NAD83
HORIZONTAL_COORDINATE_SYSTEM: UTM
COORDINATE_ZONE: 13
HORIZONTAL_UNITS: METERS
HORIZONTAL_RESOLUTION: 1.00000
SECONDARY_HORIZONTAL_DATUM: NAD27
XY_ORIGIN: 285583.00000 5209305.00000
SECONDARY_XY_ORIGIN: 285626.92000 5209085.88200
NATION: US
NATION: "SCIENCE
STATE: MT
NW_QUAD_CORNER_XY: 286183.96500 5209003.62900
NE_QUAD_CORNER_XY: 290935.17800 5208834.82200
SE_QUAD_CORNERY_XY: 290691.33400 5201890.00400
SW_QUAD_CORNER_XY: 285934.57100 5202058.83700
SECONDARY_NW_QUAD_XY: 286177.37400 5208785.21300
SECONDARY_NE_QUAD_XY: 290928.73400 5208616.40000
SECONDARY_SE_QUAD_XY: 290684.89000 5201671.61100
SECONDARY_SW_QUAD_XY: 285927.98100 5201840.44900
RMSE_XY: 2.70000
IMAGE_SOURCE: BLACK AND WHITE FILM
SOURCE_IMAGE_ID: NAPP 9131 254
SOURCE_IMAGE_DATE: 1996 07 29
SOURCE_IMAGE_ID: NAPP 9132 053
SOURCE_IMAGE_DATE: 1996 07 29
SOURCE_DEM_DATE: 1990 00 00
AGENCY: WESTERN MAPPING CENTER (WMC)
PRODUCER: UNDEFINED
PRODUCTION_SYSTEM: GIS/MAGIC
COMPRESSION: UNDEFINED
STANDARD_VERSION: 1996 12
METADATA_DATE: 2000 11 16
DATA_FILE_SIZE: 43637572
BYTE_COUNT: 5654
