FILENAME: O4610704.SWS.1112181.tif
QUADRANGLE_NAME: MCWILLIAMS SPRINGS
QUADRANT: SW
WEST_LONGITUDE: -107 37 30.00000
EAST_LONGITUDE: -107 33 45.00000
NORTH_LATITUDE: 46 56 15.00000
SOUTH_LATITUDE: 46 52 30.00000
PRODUCTION_DATE: 2000 11 6
RASTER_ORDER: LEFT_RIGHT/TOP_BOTTOM
BAND_ORGANIZATION: SINGLE FILE
BAND_CONTENT: BLACK&WHITE
BAND_CONTENT: UNDEFINED
BAND_CONTENT: UNDEFINED
BITS_PER_PIXEL: 8
SAMPLES_AND_LINES: 5642 7706
HORIZONTAL_DATUM: NAD83
HORIZONTAL_COORDINATE_SYSTEM: UTM
COORDINATE_ZONE: 13
HORIZONTAL_UNITS: METERS
HORIZONTAL_RESOLUTION: 1.00000
SECONDARY_HORIZONTAL_DATUM: NAD27
XY_ORIGIN: 299621.00000 5201865.00000
SECONDARY_XY_ORIGIN: 299664.70900 5201645.82100
NATION: US
NATION: "SCIENCE
STATE: MT
NW_QUAD_CORNER_XY: 300204.90900 5201563.73600
NE_QUAD_CORNER_XY: 304961.72000 5201406.29900
SE_QUAD_CORNERY_XY: 304734.75600 5194461.47100
SW_QUAD_CORNER_XY: 299972.40200 5194618.92900
SECONDARY_NW_QUAD_XY: 300198.75800 5201345.33300
SECONDARY_NE_QUAD_XY: 304955.71600 5201187.89200
SECONDARY_SE_QUAD_XY: 304728.75300 5194243.09300
SECONDARY_SW_QUAD_XY: 299966.25200 5194400.55600
RMSE_XY: 2.20000
IMAGE_SOURCE: BLACK AND WHITE FILM
SOURCE_IMAGE_ID: NAPP 9131 026
SOURCE_IMAGE_DATE: 1996 07 29
SOURCE_DEM_DATE: 1990 00 00
AGENCY: WESTERN MAPPING CENTER (WMC)
PRODUCER: UNDEFINED
PRODUCTION_SYSTEM: GIS/MAGIC
COMPRESSION: UNDEFINED
STANDARD_VERSION: 1996 12
METADATA_DATE: 2000 11 16
DATA_FILE_SIZE: 43482894
BYTE_COUNT: 5642
