FILENAME: O4610705.SWS.1112205.tif
QUADRANGLE_NAME: MCGINNIS BUTTE
QUADRANT: SW
WEST_LONGITUDE: -107 30 0.00000
EAST_LONGITUDE: -107 26 15.00000
NORTH_LATITUDE: 46 56 15.00000
SOUTH_LATITUDE: 46 52 30.00000
PRODUCTION_DATE: 2000 11 7
RASTER_ORDER: LEFT_RIGHT/TOP_BOTTOM
BAND_ORGANIZATION: SINGLE FILE
BAND_CONTENT: BLACK&WHITE
BAND_CONTENT: UNDEFINED
BAND_CONTENT: UNDEFINED
BITS_PER_PIXEL: 8
SAMPLES_AND_LINES: 5631 7699
HORIZONTAL_DATUM: NAD83
HORIZONTAL_COORDINATE_SYSTEM: UTM
COORDINATE_ZONE: 13
HORIZONTAL_UNITS: METERS
HORIZONTAL_RESOLUTION: 1.00000
SECONDARY_HORIZONTAL_DATUM: NAD27
XY_ORIGIN: 309146.00000 5201554.00000
SECONDARY_XY_ORIGIN: 309189.52600 5201334.72100
NATION: US
NATION: "SCIENCE
STATE: MT
NW_QUAD_CORNER_XY: 309718.54700 5201252.66100
NE_QUAD_CORNER_XY: 314475.39000 5201102.82100
SE_QUAD_CORNERY_XY: 314259.50900 5194157.94800
SW_QUAD_CORNER_XY: 309497.12500 5194307.81000
SECONDARY_NW_QUAD_XY: 309712.69000 5201034.24900
SECONDARY_NE_QUAD_XY: 314469.67900 5200884.40400
SECONDARY_SE_QUAD_XY: 314253.80000 5193939.56100
SECONDARY_SW_QUAD_XY: 309491.26900 5194089.42800
RMSE_XY: 1.70000
IMAGE_SOURCE: BLACK AND WHITE FILM
SOURCE_IMAGE_ID: NAPP 9133 246
SOURCE_IMAGE_DATE: 1996 08 08
SOURCE_DEM_DATE: 1988 00 00
AGENCY: WESTERN MAPPING CENTER (WMC)
PRODUCER: UNDEFINED
PRODUCTION_SYSTEM: GIS/MAGIC
COMPRESSION: UNDEFINED
STANDARD_VERSION: 1996 12
METADATA_DATE: 2000 11 16
DATA_FILE_SIZE: 43358700
BYTE_COUNT: 5631
