FILENAME: O4610710.SES.1008901.tif
QUADRANGLE_NAME: MOSBY SE
QUADRANT: SE
WEST_LONGITUDE: -107 48 45.00000
EAST_LONGITUDE: -107 45 0.00000
NORTH_LATITUDE: 46 48 45.00000
SOUTH_LATITUDE: 46 45 0.00000
PRODUCTION_DATE: 1999 5 5
RASTER_ORDER: LEFT_RIGHT/TOP_BOTTOM
BAND_ORGANIZATION: SINGLE FILE
BAND_CONTENT: BLACK&WHITE
BAND_CONTENT: UNDEFINED
BAND_CONTENT: UNDEFINED
BITS_PER_PIXEL: 8
SAMPLES_AND_LINES: 5670 7717
HORIZONTAL_DATUM: NAD83
HORIZONTAL_COORDINATE_SYSTEM: UTM
COORDINATE_ZONE: 13
HORIZONTAL_UNITS: METERS
HORIZONTAL_RESOLUTION: 1.00000
SECONDARY_HORIZONTAL_DATUM: NAD27
XY_ORIGIN: 284836.00000 5188470.00000
SECONDARY_XY_ORIGIN: 284879.97700 5188251.45600
NATION: US
NATION: "SCIENCE
STATE: MT
NW_QUAD_CORNER_XY: 285436.55200 5188169.42500
NE_QUAD_CORNER_XY: 290204.39700 5188000.54500
SE_QUAD_CORNERY_XY: 289961.30500 5181055.90300
SW_QUAD_CORNER_XY: 285187.92700 5181224.80600
SECONDARY_NW_QUAD_XY: 285429.96400 5187951.09800
SECONDARY_NE_QUAD_XY: 290197.95600 5187782.21200
SECONDARY_SE_QUAD_XY: 289954.86500 5180837.60200
SECONDARY_SW_QUAD_XY: 285181.34100 5181006.51000
RMSE_XY: 2.60000
IMAGE_SOURCE: BLACK AND WHITE FILM
SOURCE_IMAGE_ID: NAPP 9131 260
SOURCE_IMAGE_DATE: 1996 07 29
SOURCE_IMAGE_ID: NAPP 9131 261
SOURCE_IMAGE_DATE: 1996 07 29
SOURCE_DEM_DATE: 1988 00 00
AGENCY: WESTERN MAPPING CENTER (WMC)
PRODUCER: UNDEFINED
PRODUCTION_SYSTEM: GIS/MAGIC
COMPRESSION: UNDEFINED
STANDARD_VERSION: 1996 12
METADATA_DATE: 1999 05 24
DATA_FILE_SIZE: 43761060
BYTE_COUNT: 5670
