FILENAME: O4610715.SES.1008590.tif
QUADRANGLE_NAME: HOLE-IN-THE-ROCK
QUADRANT: SE
WEST_LONGITUDE: -107 11 15.00000
EAST_LONGITUDE: -107 7 30.00000
NORTH_LATITUDE: 46 48 45.00000
SOUTH_LATITUDE: 46 45 0.00000
PRODUCTION_DATE: 1999 5 10
RASTER_ORDER: LEFT_RIGHT/TOP_BOTTOM
BAND_ORGANIZATION: SINGLE FILE
BAND_CONTENT: BLACK&WHITE
BAND_CONTENT: UNDEFINED
BAND_CONTENT: UNDEFINED
BITS_PER_PIXEL: 8
SAMPLES_AND_LINES: 5612 7680
HORIZONTAL_DATUM: NAD83
HORIZONTAL_COORDINATE_SYSTEM: UTM
COORDINATE_ZONE: 13
HORIZONTAL_UNITS: METERS
HORIZONTAL_RESOLUTION: 1.00000
SECONDARY_HORIZONTAL_DATUM: NAD27
XY_ORIGIN: 332573.00000 5186953.00000
SECONDARY_XY_ORIGIN: 332615.87900 5186733.99500
NATION: US
NATION: "SCIENCE
STATE: MT
NW_QUAD_CORNER_XY: 333115.66700 5186651.59100
NE_QUAD_CORNER_XY: 337883.65300 5186520.69800
SE_QUAD_CORNERY_XY: 337695.86200 5179575.85800
SW_QUAD_CORNER_XY: 332922.34800 5179706.76800
SECONDARY_NW_QUAD_XY: 333110.54400 5186433.21700
SECONDARY_NE_QUAD_XY: 337878.67600 5186302.32000
SECONDARY_SE_QUAD_XY: 337690.88600 5179357.51100
SECONDARY_SW_QUAD_XY: 332917.22600 5179488.42500
RMSE_XY: 1.10000
IMAGE_SOURCE: BLACK AND WHITE FILM
SOURCE_IMAGE_ID: NAPP 9100 020
SOURCE_IMAGE_DATE: 1996 07 14
SOURCE_IMAGE_ID: NAPP 9100 021
SOURCE_IMAGE_DATE: 1996 07 14
SOURCE_IMAGE_ID: NAPP 9100 019
SOURCE_IMAGE_DATE: 1996 07 14
SOURCE_DEM_DATE: 1997 01 01
AGENCY: WESTERN MAPPING CENTER (WMC)
PRODUCER: UNDEFINED
PRODUCTION_SYSTEM: GIS/MAGIC
COMPRESSION: UNDEFINED
STANDARD_VERSION: 1996 12
METADATA_DATE: 1999 05 24
DATA_FILE_SIZE: 43105772
BYTE_COUNT: 5612
