FILENAME: O4610715.NWS.1008589.tif
QUADRANGLE_NAME: HOLE-IN-THE-ROCK
QUADRANT: NW
WEST_LONGITUDE: -107 15 0.00000
EAST_LONGITUDE: -107 11 15.00000
NORTH_LATITUDE: 46 52 30.00000
SOUTH_LATITUDE: 46 48 45.00000
PRODUCTION_DATE: 1999 5 10
RASTER_ORDER: LEFT_RIGHT/TOP_BOTTOM
BAND_ORGANIZATION: SINGLE FILE
BAND_CONTENT: BLACK&WHITE
BAND_CONTENT: UNDEFINED
BAND_CONTENT: UNDEFINED
BITS_PER_PIXEL: 8
SAMPLES_AND_LINES: 5613 7683
HORIZONTAL_DATUM: NAD83
HORIZONTAL_COORDINATE_SYSTEM: UTM
COORDINATE_ZONE: 13
HORIZONTAL_UNITS: METERS
HORIZONTAL_RESOLUTION: 1.00000
SECONDARY_HORIZONTAL_DATUM: NAD27
XY_ORIGIN: 327998.00000 5194032.00000
SECONDARY_XY_ORIGIN: 328041.02900 5193812.82500
NATION: US
NATION: "SCIENCE
STATE: MT
NW_QUAD_CORNER_XY: 328546.74600 5193731.15000
NE_QUAD_CORNER_XY: 333309.18600 5193596.47900
SE_QUAD_CORNERY_XY: 333115.66700 5186651.59100
SW_QUAD_CORNER_XY: 328347.69400 5186786.28100
SECONDARY_NW_QUAD_XY: 328541.47600 5193512.75000
SECONDARY_NE_QUAD_XY: 333304.06100 5193378.07400
SECONDARY_SE_QUAD_XY: 333110.54400 5186433.21700
SECONDARY_SW_QUAD_XY: 328342.42400 5186567.91100
RMSE_XY: 1.50000
IMAGE_SOURCE: BLACK AND WHITE FILM
SOURCE_IMAGE_ID: NAPP 10765 024
SOURCE_IMAGE_DATE: 1997 09 23
SOURCE_IMAGE_ID: NAPP 9126 011
SOURCE_IMAGE_DATE: 1996 07 14
SOURCE_IMAGE_ID: NAPP 9100 018
SOURCE_IMAGE_DATE: 1996 07 14
SOURCE_DEM_DATE: 1997 01 01
AGENCY: WESTERN MAPPING CENTER (WMC)
PRODUCER: UNDEFINED
PRODUCTION_SYSTEM: GIS/MAGIC
COMPRESSION: UNDEFINED
STANDARD_VERSION: 1996 12
METADATA_DATE: 1999 05 24
DATA_FILE_SIZE: 43130292
BYTE_COUNT: 5613
