FILENAME: O4610716.SES.1008634.tif
QUADRANGLE_NAME: ACORN FLATS
QUADRANT: SE
WEST_LONGITUDE: -107 3 45.00000
EAST_LONGITUDE: -107 0 0.00000
NORTH_LATITUDE: 46 48 45.00000
SOUTH_LATITUDE: 46 45 0.00000
PRODUCTION_DATE: 1999 5 10
RASTER_ORDER: LEFT_RIGHT/TOP_BOTTOM
BAND_ORGANIZATION: SINGLE FILE
BAND_CONTENT: BLACK&WHITE
BAND_CONTENT: UNDEFINED
BAND_CONTENT: UNDEFINED
BITS_PER_PIXEL: 8
SAMPLES_AND_LINES: 5601 7672
HORIZONTAL_DATUM: NAD83
HORIZONTAL_COORDINATE_SYSTEM: UTM
COORDINATE_ZONE: 13
HORIZONTAL_UNITS: METERS
HORIZONTAL_RESOLUTION: 1.00000
SECONDARY_HORIZONTAL_DATUM: NAD27
XY_ORIGIN: 342120.00000 5186695.00000
SECONDARY_XY_ORIGIN: 342162.67400 5186475.96900
NATION: US
NATION: "SCIENCE
STATE: MT
NW_QUAD_CORNER_XY: 342651.65100 5186393.60300
NE_QUAD_CORNER_XY: 347419.66000 5186270.30400
SE_QUAD_CORNERY_XY: 347242.92500 5179325.43000
SW_QUAD_CORNER_XY: 342469.38800 5179448.74600
SECONDARY_NW_QUAD_XY: 342646.82000 5186175.22100
SECONDARY_NE_QUAD_XY: 347414.97600 5186051.91800
SECONDARY_SE_QUAD_XY: 347238.24100 5179107.07600
SECONDARY_SW_QUAD_XY: 342464.55800 5179230.39500
RMSE_XY: 1.00000
IMAGE_SOURCE: BLACK AND WHITE FILM
SOURCE_IMAGE_ID: NAPP 9099 107
SOURCE_IMAGE_DATE: 1996 07 14
SOURCE_IMAGE_ID: NAPP 9099 109
SOURCE_IMAGE_DATE: 1996 07 14
SOURCE_IMAGE_ID: NAPP 9099 069
SOURCE_IMAGE_DATE: 1996 07 14
SOURCE_DEM_DATE: 1964 00 00
AGENCY: WESTERN MAPPING CENTER (WMC)
PRODUCER: UNDEFINED
PRODUCTION_SYSTEM: GIS/MAGIC
COMPRESSION: UNDEFINED
STANDARD_VERSION: 1996 12
METADATA_DATE: 1999 05 24
DATA_FILE_SIZE: 42976473
BYTE_COUNT: 5601
