FILENAME: O4610716.NES.1008630.tif
QUADRANGLE_NAME: ACORN FLATS
QUADRANT: NE
WEST_LONGITUDE: -107 3 45.00000
EAST_LONGITUDE: -107 0 0.00000
NORTH_LATITUDE: 46 52 30.00000
SOUTH_LATITUDE: 46 48 45.00000
PRODUCTION_DATE: 1999 5 10
RASTER_ORDER: LEFT_RIGHT/TOP_BOTTOM
BAND_ORGANIZATION: SINGLE FILE
BAND_CONTENT: BLACK&WHITE
BAND_CONTENT: UNDEFINED
BAND_CONTENT: UNDEFINED
BITS_PER_PIXEL: 8
SAMPLES_AND_LINES: 5595 7672
HORIZONTAL_DATUM: NAD83
HORIZONTAL_COORDINATE_SYSTEM: UTM
COORDINATE_ZONE: 13
HORIZONTAL_UNITS: METERS
HORIZONTAL_RESOLUTION: 1.00000
SECONDARY_HORIZONTAL_DATUM: NAD27
XY_ORIGIN: 342303.00000 5193640.00000
SECONDARY_XY_ORIGIN: 342345.70900 5193420.82100
NATION: US
NATION: "SCIENCE
STATE: MT
NW_QUAD_CORNER_XY: 342834.10200 5193338.52600
NE_QUAD_CORNER_XY: 347596.57900 5193215.24500
SE_QUAD_CORNERY_XY: 347419.66000 5186270.30400
SW_QUAD_CORNER_XY: 342651.65100 5186393.60300
SECONDARY_NW_QUAD_XY: 342829.27100 5193120.11400
SECONDARY_NE_QUAD_XY: 347591.89400 5192996.82800
SECONDARY_SE_QUAD_XY: 347414.97600 5186051.91800
SECONDARY_SW_QUAD_XY: 342646.82000 5186175.22100
RMSE_XY: 2.20000
IMAGE_SOURCE: BLACK AND WHITE FILM
SOURCE_IMAGE_ID: NAPP 9099 105
SOURCE_IMAGE_DATE: 1996 07 14
SOURCE_IMAGE_ID: NAPP 9099 227
SOURCE_IMAGE_DATE: 1996 07 14
SOURCE_IMAGE_ID: NAPP 9099 071
SOURCE_IMAGE_DATE: 1996 07 14
SOURCE_DEM_DATE: 1964 00 00
AGENCY: WESTERN MAPPING CENTER (WMC)
PRODUCER: UNDEFINED
PRODUCTION_SYSTEM: GIS/MAGIC
COMPRESSION: UNDEFINED
STANDARD_VERSION: 1996 12
METADATA_DATE: 1999 05 24
DATA_FILE_SIZE: 42930435
BYTE_COUNT: 5595
