FILENAME: O4610717.NWS.1008871.tif
QUADRANGLE_NAME: MELSTONE NW
QUADRANT: NW
WEST_LONGITUDE: -108 0 0.00000
EAST_LONGITUDE: -107 56 15.00000
NORTH_LATITUDE: 46 45 0.00000
SOUTH_LATITUDE: 46 41 15.00000
PRODUCTION_DATE: 1999 5 17
RASTER_ORDER: LEFT_RIGHT/TOP_BOTTOM
BAND_ORGANIZATION: SINGLE FILE
BAND_CONTENT: BLACK&WHITE
BAND_CONTENT: UNDEFINED
BAND_CONTENT: UNDEFINED
BITS_PER_PIXEL: 8
SAMPLES_AND_LINES: 5693 7728
HORIZONTAL_DATUM: NAD83
HORIZONTAL_COORDINATE_SYSTEM: UTM
COORDINATE_ZONE: 13
HORIZONTAL_UNITS: METERS
HORIZONTAL_RESOLUTION: 1.00000
SECONDARY_HORIZONTAL_DATUM: NAD27
XY_ORIGIN: 270250.00000 5182055.00000
SECONDARY_XY_ORIGIN: 270294.17900 5181836.96700
NATION: US
NATION: "SCIENCE
STATE: MT
NW_QUAD_CORNER_XY: 270867.88800 5181754.32600
NE_QUAD_CORNER_XY: 275641.21800 5181574.01800
SE_QUAD_CORNERY_XY: 275381.79400 5174629.50200
SW_QUAD_CORNER_XY: 270602.93500 5174809.83400
SECONDARY_NW_QUAD_XY: 270860.86200 5181536.04600
SECONDARY_NE_QUAD_XY: 275634.33900 5181355.73200
SECONDARY_SE_QUAD_XY: 275374.91600 5174411.24900
SECONDARY_SW_QUAD_XY: 270595.91100 5174591.58600
RMSE_XY: 4.00000
IMAGE_SOURCE: BLACK AND WHITE FILM
SOURCE_IMAGE_ID: NAPP 9132 160
SOURCE_IMAGE_DATE: 1996 07 29
SOURCE_IMAGE_ID: NAPP 9132 159
SOURCE_IMAGE_DATE: 1996 07 29
SOURCE_IMAGE_ID: NAPP 9132 161
SOURCE_IMAGE_DATE: 1996 07 29
SOURCE_DEM_DATE: 1961 00 00
AGENCY: WESTERN MAPPING CENTER (WMC)
PRODUCER: UNDEFINED
PRODUCTION_SYSTEM: GIS/MAGIC
COMPRESSION: UNDEFINED
STANDARD_VERSION: 1996 12
METADATA_DATE: 1999 05 24
DATA_FILE_SIZE: 44001197
BYTE_COUNT: 5693
