FILENAME: O4610718.SES.1008909.tif
QUADRANGLE_NAME: MELSTONE NE
QUADRANT: SE
WEST_LONGITUDE: -107 48 45.00000
EAST_LONGITUDE: -107 45 0.00000
NORTH_LATITUDE: 46 41 15.00000
SOUTH_LATITUDE: 46 37 30.00000
PRODUCTION_DATE: 1999 5 17
RASTER_ORDER: LEFT_RIGHT/TOP_BOTTOM
BAND_ORGANIZATION: SINGLE FILE
BAND_CONTENT: BLACK&WHITE
BAND_CONTENT: UNDEFINED
BAND_CONTENT: UNDEFINED
BITS_PER_PIXEL: 8
SAMPLES_AND_LINES: 5681 7717
HORIZONTAL_DATUM: NAD83
HORIZONTAL_COORDINATE_SYSTEM: UTM
COORDINATE_ZONE: 13
HORIZONTAL_UNITS: METERS
HORIZONTAL_RESOLUTION: 1.00000
SECONDARY_HORIZONTAL_DATUM: NAD27
XY_ORIGIN: 284339.00000 5174581.00000
SECONDARY_XY_ORIGIN: 284382.95600 5174362.77900
NATION: US
NATION: "SCIENCE
STATE: MT
NW_QUAD_CORNER_XY: 284939.55900 5174280.24500
NE_QUAD_CORNER_XY: 289718.46500 5174111.32000
SE_QUAD_CORNERY_XY: 289475.87600 5167166.79600
SW_QUAD_CORNER_XY: 284691.44900 5167335.74200
SECONDARY_NW_QUAD_XY: 284932.97400 5174061.98100
SECONDARY_NE_QUAD_XY: 289712.02600 5173893.05100
SECONDARY_SE_QUAD_XY: 289469.43800 5166948.55900
SECONDARY_SW_QUAD_XY: 284684.86500 5167117.51100
RMSE_XY: 3.30000
IMAGE_SOURCE: BLACK AND WHITE FILM
SOURCE_IMAGE_ID: NAPP 9131 264
SOURCE_IMAGE_DATE: 1996 07 29
SOURCE_IMAGE_ID: NAPP 9132 043
SOURCE_IMAGE_DATE: 1996 07 29
SOURCE_IMAGE_ID: NAPP 9131 266
SOURCE_IMAGE_DATE: 1996 07 29
SOURCE_IMAGE_ID: NAPP 9131 265
SOURCE_IMAGE_DATE: 1996 07 29
SOURCE_IMAGE_ID: NAPP 9131 157
SOURCE_IMAGE_DATE: 1996 07 29
SOURCE_DEM_DATE: 1988 00 00
AGENCY: WESTERN MAPPING CENTER (WMC)
PRODUCER: UNDEFINED
PRODUCTION_SYSTEM: GIS/MAGIC
COMPRESSION: UNDEFINED
STANDARD_VERSION: 1996 12
METADATA_DATE: 1999 05 24
DATA_FILE_SIZE: 43845958
BYTE_COUNT: 5681
