FILENAME: O4610719.NWS.1009322.tif
QUADRANGLE_NAME: GREBE RANCH
QUADRANT: NW
WEST_LONGITUDE: -107 45 0.00000
EAST_LONGITUDE: -107 41 15.00000
NORTH_LATITUDE: 46 45 0.00000
SOUTH_LATITUDE: 46 41 15.00000
PRODUCTION_DATE: 1999 5 17
RASTER_ORDER: LEFT_RIGHT/TOP_BOTTOM
BAND_ORGANIZATION: SINGLE FILE
BAND_CONTENT: BLACK&WHITE
BAND_CONTENT: UNDEFINED
BAND_CONTENT: UNDEFINED
BITS_PER_PIXEL: 8
SAMPLES_AND_LINES: 5669 7713
HORIZONTAL_DATUM: NAD83
HORIZONTAL_COORDINATE_SYSTEM: UTM
COORDINATE_ZONE: 13
HORIZONTAL_UNITS: METERS
HORIZONTAL_RESOLUTION: 1.00000
SECONDARY_HORIZONTAL_DATUM: NAD27
XY_ORIGIN: 289367.00000 5181357.00000
SECONDARY_XY_ORIGIN: 289410.94700 5181138.54300
NATION: US
NATION: "SCIENCE
STATE: MT
NW_QUAD_CORNER_XY: 289961.30500 5181055.90300
NE_QUAD_CORNER_XY: 294734.69800 5180890.80000
SE_QUAD_CORNERY_XY: 294497.38400 5173946.19600
SW_QUAD_CORNER_XY: 289718.46500 5174111.32000
SECONDARY_NW_QUAD_XY: 289954.86500 5180837.60200
SECONDARY_NE_QUAD_XY: 294728.40500 5180672.49400
SECONDARY_SE_QUAD_XY: 294491.09200 5173727.92200
SECONDARY_SW_QUAD_XY: 289712.02600 5173893.05100
RMSE_XY: 1.30000
IMAGE_SOURCE: BLACK AND WHITE FILM
SOURCE_IMAGE_ID: NAPP 9131 159
SOURCE_IMAGE_DATE: 1996 07 29
SOURCE_IMAGE_ID: NAPP 9131 261
SOURCE_IMAGE_DATE: 1996 07 29
SOURCE_IMAGE_ID: NAPP 9131 160
SOURCE_IMAGE_DATE: 1996 07 29
SOURCE_DEM_DATE: 1961 00 00
AGENCY: WESTERN MAPPING CENTER (WMC)
PRODUCER: UNDEFINED
PRODUCTION_SYSTEM: GIS/MAGIC
COMPRESSION: UNDEFINED
STANDARD_VERSION: 1996 12
METADATA_DATE: 1999 06 15
DATA_FILE_SIZE: 43730666
BYTE_COUNT: 5669
