FILENAME: O4610721.SES.1009041.tif
QUADRANGLE_NAME: YABLONSKI RANCH
QUADRANT: SE
WEST_LONGITUDE: -107 26 15.00000
EAST_LONGITUDE: -107 22 30.00000
NORTH_LATITUDE: 46 41 15.00000
SOUTH_LATITUDE: 46 37 30.00000
PRODUCTION_DATE: 1999 5 17
RASTER_ORDER: LEFT_RIGHT/TOP_BOTTOM
BAND_ORGANIZATION: SINGLE FILE
BAND_CONTENT: BLACK&WHITE
BAND_CONTENT: UNDEFINED
BAND_CONTENT: UNDEFINED
BITS_PER_PIXEL: 8
SAMPLES_AND_LINES: 5646 7694
HORIZONTAL_DATUM: NAD83
HORIZONTAL_COORDINATE_SYSTEM: UTM
COORDINATE_ZONE: 13
HORIZONTAL_UNITS: METERS
HORIZONTAL_RESOLUTION: 1.00000
SECONDARY_HORIZONTAL_DATUM: NAD27
XY_ORIGIN: 313048.00000 5173624.00000
SECONDARY_XY_ORIGIN: 313091.28400 5173405.47400
NATION: US
NATION: "SCIENCE
STATE: MT
NW_QUAD_CORNER_XY: 313613.20400 5173323.70600
NE_QUAD_CORNER_XY: 318392.19200 5173177.58300
SE_QUAD_CORNERY_XY: 318182.72100 5166232.94300
SW_QUAD_CORNER_XY: 313398.21400 5166379.08300
SECONDARY_NW_QUAD_XY: 313607.49600 5173105.41300
SECONDARY_NE_QUAD_XY: 318386.63100 5172959.28600
SECONDARY_SE_QUAD_XY: 318177.16100 5166014.67800
SECONDARY_SW_QUAD_XY: 313392.50800 5166160.82300
RMSE_XY: 1.80000
IMAGE_SOURCE: BLACK AND WHITE FILM
SOURCE_IMAGE_ID: NAPP 9133 131
SOURCE_IMAGE_DATE: 1996 08 08
SOURCE_DEM_DATE: 1956 00 00
AGENCY: WESTERN MAPPING CENTER (WMC)
PRODUCER: UNDEFINED
PRODUCTION_SYSTEM: GIS/MAGIC
COMPRESSION: UNDEFINED
STANDARD_VERSION: 1996 12
METADATA_DATE: 1999 05 24
DATA_FILE_SIZE: 43445970
BYTE_COUNT: 5646
