FILENAME: O4610721.NWS.1009040.tif
QUADRANGLE_NAME: YABLONSKI RANCH
QUADRANT: NW
WEST_LONGITUDE: -107 30 0.00000
EAST_LONGITUDE: -107 26 15.00000
NORTH_LATITUDE: 46 45 0.00000
SOUTH_LATITUDE: 46 41 15.00000
PRODUCTION_DATE: 1999 5 17
RASTER_ORDER: LEFT_RIGHT/TOP_BOTTOM
BAND_ORGANIZATION: SINGLE FILE
BAND_CONTENT: BLACK&WHITE
BAND_CONTENT: UNDEFINED
BAND_CONTENT: UNDEFINED
BITS_PER_PIXEL: 8
SAMPLES_AND_LINES: 5647 7698
HORIZONTAL_DATUM: NAD83
HORIZONTAL_COORDINATE_SYSTEM: UTM
COORDINATE_ZONE: 13
HORIZONTAL_UNITS: METERS
HORIZONTAL_RESOLUTION: 1.00000
SECONDARY_HORIZONTAL_DATUM: NAD27
XY_ORIGIN: 308483.00000 5180719.00000
SECONDARY_XY_ORIGIN: 308526.49100 5180500.33900
NATION: US
NATION: "SCIENCE
STATE: MT
NW_QUAD_CORNER_XY: 309054.96600 5180418.29400
NE_QUAD_CORNER_XY: 313828.41600 5180268.39100
SE_QUAD_CORNERY_XY: 313613.20400 5173323.70600
SW_QUAD_CORNER_XY: 308834.22900 5173473.62800
SECONDARY_NW_QUAD_XY: 309049.11100 5180199.97300
SECONDARY_NE_QUAD_XY: 313822.70800 5180050.06500
SECONDARY_SE_QUAD_XY: 313607.49600 5173105.41300
SECONDARY_SW_QUAD_XY: 308828.37500 5173255.33900
RMSE_XY: 1.00000
IMAGE_SOURCE: BLACK AND WHITE FILM
SOURCE_IMAGE_ID: NAPP 9133 240
SOURCE_IMAGE_DATE: 1996 08 08
SOURCE_IMAGE_ID: NAPP 9135 036
SOURCE_IMAGE_DATE: 1996 08 19
SOURCE_DEM_DATE: 1956 00 00
AGENCY: WESTERN MAPPING CENTER (WMC)
PRODUCER: UNDEFINED
PRODUCTION_SYSTEM: GIS/MAGIC
COMPRESSION: UNDEFINED
STANDARD_VERSION: 1996 12
METADATA_DATE: 1999 05 24
DATA_FILE_SIZE: 43476253
BYTE_COUNT: 5647
