FILENAME: O4610722.SWS.1008571.tif
QUADRANGLE_NAME: BLACK SEA RESERVOIR
QUADRANT: SW
WEST_LONGITUDE: -107 22 30.00000
EAST_LONGITUDE: -107 18 45.00000
NORTH_LATITUDE: 46 41 15.00000
SOUTH_LATITUDE: 46 37 30.00000
PRODUCTION_DATE: 1999 5 17
RASTER_ORDER: LEFT_RIGHT/TOP_BOTTOM
BAND_ORGANIZATION: SINGLE FILE
BAND_CONTENT: BLACK&WHITE
BAND_CONTENT: UNDEFINED
BAND_CONTENT: UNDEFINED
BITS_PER_PIXEL: 8
SAMPLES_AND_LINES: 5640 7690
HORIZONTAL_DATUM: NAD83
HORIZONTAL_COORDINATE_SYSTEM: UTM
COORDINATE_ZONE: 13
HORIZONTAL_UNITS: METERS
HORIZONTAL_RESOLUTION: 1.00000
SECONDARY_HORIZONTAL_DATUM: NAD27
XY_ORIGIN: 317833.00000 5173478.00000
SECONDARY_XY_ORIGIN: 317876.16000 5173259.43300
NATION: US
NATION: "SCIENCE
STATE: MT
NW_QUAD_CORNER_XY: 318392.19200 5173177.58300
NE_QUAD_CORNER_XY: 323171.19200 5173035.26000
SE_QUAD_CORNERY_XY: 322967.23900 5166090.60200
SW_QUAD_CORNER_XY: 318182.72100 5166232.94300
SECONDARY_NW_QUAD_XY: 318386.63100 5172959.28600
SECONDARY_NE_QUAD_XY: 323165.77800 5172816.95800
SECONDARY_SE_QUAD_XY: 322961.82600 5165872.33200
SECONDARY_SW_QUAD_XY: 318177.16100 5166014.67800
RMSE_XY: 0.80000
IMAGE_SOURCE: BLACK AND WHITE FILM
SOURCE_IMAGE_ID: NAPP 9133 091
SOURCE_IMAGE_DATE: 1996 08 08
SOURCE_IMAGE_ID: NAPP 9133 093
SOURCE_IMAGE_DATE: 1996 08 08
SOURCE_DEM_DATE: 1956 00 00
AGENCY: WESTERN MAPPING CENTER (WMC)
PRODUCER: UNDEFINED
PRODUCTION_SYSTEM: GIS/MAGIC
COMPRESSION: UNDEFINED
STANDARD_VERSION: 1996 12
METADATA_DATE: 1999 05 24
DATA_FILE_SIZE: 43377240
BYTE_COUNT: 5640
