FILENAME: O4610722.NWS.1008569.tif
QUADRANGLE_NAME: BLACK SEA RESERVOIR
QUADRANT: NW
WEST_LONGITUDE: -107 22 30.00000
EAST_LONGITUDE: -107 18 45.00000
NORTH_LATITUDE: 46 45 0.00000
SOUTH_LATITUDE: 46 41 15.00000
PRODUCTION_DATE: 1999 5 17
RASTER_ORDER: LEFT_RIGHT/TOP_BOTTOM
BAND_ORGANIZATION: SINGLE FILE
BAND_CONTENT: BLACK&WHITE
BAND_CONTENT: UNDEFINED
BAND_CONTENT: UNDEFINED
BITS_PER_PIXEL: 8
SAMPLES_AND_LINES: 5635 7690
HORIZONTAL_DATUM: NAD83
HORIZONTAL_COORDINATE_SYSTEM: UTM
COORDINATE_ZONE: 13
HORIZONTAL_UNITS: METERS
HORIZONTAL_RESOLUTION: 1.00000
SECONDARY_HORIZONTAL_DATUM: NAD27
XY_ORIGIN: 318042.00000 5180423.00000
SECONDARY_XY_ORIGIN: 318085.21200 5180204.26600
NATION: US
NATION: "SCIENCE
STATE: MT
NW_QUAD_CORNER_XY: 318601.88000 5180122.28700
NE_QUAD_CORNER_XY: 323375.35700 5179979.98300
SE_QUAD_CORNERY_XY: 323171.19200 5173035.26000
SW_QUAD_CORNER_XY: 318392.19200 5173177.58300
SECONDARY_NW_QUAD_XY: 318596.31800 5179903.95700
SECONDARY_NE_QUAD_XY: 323369.94200 5179761.64800
SECONDARY_SE_QUAD_XY: 323165.77800 5172816.95800
SECONDARY_SW_QUAD_XY: 318386.63100 5172959.28600
RMSE_XY: 1.30000
IMAGE_SOURCE: BLACK AND WHITE FILM
SOURCE_IMAGE_ID: NAPP 9133 093
SOURCE_IMAGE_DATE: 1996 08 08
SOURCE_DEM_DATE: 1956 00 00
AGENCY: WESTERN MAPPING CENTER (WMC)
PRODUCER: UNDEFINED
PRODUCTION_SYSTEM: GIS/MAGIC
COMPRESSION: UNDEFINED
STANDARD_VERSION: 1996 12
METADATA_DATE: 1999 05 24
DATA_FILE_SIZE: 43338785
BYTE_COUNT: 5635
