FILENAME: O4610723.NES.1008592.tif
QUADRANGLE_NAME: HAGEN RANCH
QUADRANT: NE
WEST_LONGITUDE: -107 11 15.00000
EAST_LONGITUDE: -107 7 30.00000
NORTH_LATITUDE: 46 45 0.00000
SOUTH_LATITUDE: 46 41 15.00000
PRODUCTION_DATE: 1999 5 19
RASTER_ORDER: LEFT_RIGHT/TOP_BOTTOM
BAND_ORGANIZATION: SINGLE FILE
BAND_CONTENT: BLACK&WHITE
BAND_CONTENT: UNDEFINED
BAND_CONTENT: UNDEFINED
BITS_PER_PIXEL: 8
SAMPLES_AND_LINES: 5617 7679
HORIZONTAL_DATUM: NAD83
HORIZONTAL_COORDINATE_SYSTEM: UTM
COORDINATE_ZONE: 13
HORIZONTAL_UNITS: METERS
HORIZONTAL_RESOLUTION: 1.00000
SECONDARY_HORIZONTAL_DATUM: NAD27
XY_ORIGIN: 332380.00000 5180008.00000
SECONDARY_XY_ORIGIN: 332422.83900 5179789.16400
NATION: US
NATION: "SCIENCE
STATE: MT
NW_QUAD_CORNER_XY: 332922.34800 5179706.76800
NE_QUAD_CORNER_XY: 337695.86200 5179575.85800
SE_QUAD_CORNERY_XY: 337508.26600 5172631.08400
SW_QUAD_CORNER_XY: 332729.23000 5172762.01100
SECONDARY_NW_QUAD_XY: 332917.22600 5179488.42500
SECONDARY_NE_QUAD_XY: 337690.88600 5179357.51100
SECONDARY_SE_QUAD_XY: 337503.29100 5172412.76900
SECONDARY_SW_QUAD_XY: 332724.10800 5172543.70000
RMSE_XY: 1.20000
IMAGE_SOURCE: BLACK AND WHITE FILM
SOURCE_IMAGE_ID: NAPP 9100 022
SOURCE_IMAGE_DATE: 1996 07 14
SOURCE_IMAGE_ID: NAPP 10764 069
SOURCE_IMAGE_DATE: 1997 09 20
SOURCE_DEM_DATE: 1956 00 00
AGENCY: WESTERN MAPPING CENTER (WMC)
PRODUCER: UNDEFINED
PRODUCTION_SYSTEM: GIS/MAGIC
COMPRESSION: UNDEFINED
STANDARD_VERSION: 1996 12
METADATA_DATE: 1999 05 24
DATA_FILE_SIZE: 43138560
BYTE_COUNT: 5617
