FILENAME: O4610724.SWS.1008603.tif
QUADRANGLE_NAME: BROWN COULEE
QUADRANT: SW
WEST_LONGITUDE: -107 7 30.00000
EAST_LONGITUDE: -107 3 45.00000
NORTH_LATITUDE: 46 41 15.00000
SOUTH_LATITUDE: 46 37 30.00000
PRODUCTION_DATE: 1999 5 19
RASTER_ORDER: LEFT_RIGHT/TOP_BOTTOM
BAND_ORGANIZATION: SINGLE FILE
BAND_CONTENT: BLACK&WHITE
BAND_CONTENT: UNDEFINED
BAND_CONTENT: UNDEFINED
BITS_PER_PIXEL: 8
SAMPLES_AND_LINES: 5617 7675
HORIZONTAL_DATUM: NAD83
HORIZONTAL_COORDINATE_SYSTEM: UTM
COORDINATE_ZONE: 13
HORIZONTAL_UNITS: METERS
HORIZONTAL_RESOLUTION: 1.00000
SECONDARY_HORIZONTAL_DATUM: NAD27
XY_ORIGIN: 336972.00000 5172932.00000
SECONDARY_XY_ORIGIN: 337014.70500 5172713.29400
NATION: US
NATION: "SCIENCE
STATE: MT
NW_QUAD_CORNER_XY: 337508.26600 5172631.08400
NE_QUAD_CORNER_XY: 342287.31300 5172503.95500
SE_QUAD_CORNERY_XY: 342105.42800 5165559.23000
SW_QUAD_CORNER_XY: 337320.86400 5165686.37500
SECONDARY_NW_QUAD_XY: 337503.29100 5172412.76900
SECONDARY_NE_QUAD_XY: 342282.48500 5172285.63600
SECONDARY_SE_QUAD_XY: 342100.60000 5165340.94500
SECONDARY_SW_QUAD_XY: 337315.89000 5165468.09300
RMSE_XY: 1.00000
IMAGE_SOURCE: BLACK AND WHITE FILM
SOURCE_IMAGE_ID: NAPP 10764 067
SOURCE_IMAGE_DATE: 1997 09 20
SOURCE_DEM_DATE: 1956 00 00
AGENCY: WESTERN MAPPING CENTER (WMC)
PRODUCER: UNDEFINED
PRODUCTION_SYSTEM: GIS/MAGIC
COMPRESSION: UNDEFINED
STANDARD_VERSION: 1996 12
METADATA_DATE: 1999 05 24
DATA_FILE_SIZE: 43116092
BYTE_COUNT: 5617
