FILENAME: O4610726.SWS.1008917.tif
QUADRANGLE_NAME: MELSTONE
QUADRANT: SW
WEST_LONGITUDE: -107 52 30.00000
EAST_LONGITUDE: -107 48 45.00000
NORTH_LATITUDE: 46 33 45.00000
SOUTH_LATITUDE: 46 30 0.00000
PRODUCTION_DATE: 1999 5 5
RASTER_ORDER: LEFT_RIGHT/TOP_BOTTOM
BAND_ORGANIZATION: SINGLE FILE
BAND_CONTENT: BLACK&WHITE
BAND_CONTENT: UNDEFINED
BAND_CONTENT: UNDEFINED
BITS_PER_PIXEL: 8
SAMPLES_AND_LINES: 5697 7721
HORIZONTAL_DATUM: NAD83
HORIZONTAL_COORDINATE_SYSTEM: UTM
COORDINATE_ZONE: 13
HORIZONTAL_UNITS: METERS
HORIZONTAL_RESOLUTION: 1.00000
SECONDARY_HORIZONTAL_DATUM: NAD27
XY_ORIGIN: 279048.00000 5160865.00000
SECONDARY_XY_ORIGIN: 279091.94400 5160647.12600
NATION: US
NATION: "SCIENCE
STATE: MT
NW_QUAD_CORNER_XY: 279653.66800 5160564.06700
NE_QUAD_CORNER_XY: 284443.59700 5160391.29700
SE_QUAD_CORNERY_XY: 284196.00200 5153446.91000
SW_QUAD_CORNER_XY: 279400.56300 5153619.70000
SECONDARY_NW_QUAD_XY: 279646.93900 5160345.87500
SECONDARY_NE_QUAD_XY: 284437.01400 5160173.10000
SECONDARY_SE_QUAD_XY: 284189.42000 5153228.74700
SECONDARY_SW_QUAD_XY: 279393.83500 5153401.54200
RMSE_XY: 3.30000
IMAGE_SOURCE: BLACK AND WHITE FILM
SOURCE_IMAGE_ID: NAPP 9132 040
SOURCE_IMAGE_DATE: 1996 07 29
SOURCE_IMAGE_ID: NAPP 9132 041
SOURCE_IMAGE_DATE: 1996 07 29
SOURCE_IMAGE_ID: NAPP 9131 267
SOURCE_IMAGE_DATE: 1996 07 29
SOURCE_DEM_DATE: 1988 00 00
AGENCY: WESTERN MAPPING CENTER (WMC)
PRODUCER: UNDEFINED
PRODUCTION_SYSTEM: GIS/MAGIC
COMPRESSION: UNDEFINED
STANDARD_VERSION: 1996 12
METADATA_DATE: 1999 05 24
DATA_FILE_SIZE: 43992234
BYTE_COUNT: 5697
