FILENAME: O4610727.NWS.1008971.tif
QUADRANGLE_NAME: GUTHRIDGE RANCH
QUADRANT: NW
WEST_LONGITUDE: -107 45 0.00000
EAST_LONGITUDE: -107 41 15.00000
NORTH_LATITUDE: 46 37 30.00000
SOUTH_LATITUDE: 46 33 45.00000
PRODUCTION_DATE: 1999 5 17
RASTER_ORDER: LEFT_RIGHT/TOP_BOTTOM
BAND_ORGANIZATION: SINGLE FILE
BAND_CONTENT: BLACK&WHITE
BAND_CONTENT: UNDEFINED
BAND_CONTENT: UNDEFINED
BITS_PER_PIXEL: 8
SAMPLES_AND_LINES: 5680 7712
HORIZONTAL_DATUM: NAD83
HORIZONTAL_COORDINATE_SYSTEM: UTM
COORDINATE_ZONE: 13
HORIZONTAL_UNITS: METERS
HORIZONTAL_RESOLUTION: 1.00000
SECONDARY_HORIZONTAL_DATUM: NAD27
XY_ORIGIN: 288882.00000 5167467.00000
SECONDARY_XY_ORIGIN: 288925.84700 5167248.78900
NATION: US
NATION: "SCIENCE
STATE: MT
NW_QUAD_CORNER_XY: 289475.87600 5167166.79600
NE_QUAD_CORNER_XY: 294260.31700 5167001.65100
SE_QUAD_CORNERY_XY: 294023.49500 5160057.16600
SW_QUAD_CORNER_XY: 289233.53900 5160222.33000
SECONDARY_NW_QUAD_XY: 289469.43800 5166948.55900
SECONDARY_NE_QUAD_XY: 294254.02500 5166783.41000
SECONDARY_SE_QUAD_XY: 294017.20500 5159838.95800
SECONDARY_SW_QUAD_XY: 289227.10200 5160004.12800
RMSE_XY: 2.20000
IMAGE_SOURCE: BLACK AND WHITE FILM
SOURCE_IMAGE_ID: NAPP 9131 155
SOURCE_IMAGE_DATE: 1996 07 29
SOURCE_IMAGE_ID: NAPP 9131 267
SOURCE_IMAGE_DATE: 1996 07 29
SOURCE_IMAGE_ID: NAPP 9131 266
SOURCE_IMAGE_DATE: 1996 07 29
SOURCE_IMAGE_ID: NAPP 9131 265
SOURCE_IMAGE_DATE: 1996 07 29
SOURCE_IMAGE_ID: NAPP 9131 156
SOURCE_IMAGE_DATE: 1996 07 29
SOURCE_DEM_DATE: 1961 00 00
AGENCY: WESTERN MAPPING CENTER (WMC)
PRODUCER: UNDEFINED
PRODUCTION_SYSTEM: GIS/MAGIC
COMPRESSION: UNDEFINED
STANDARD_VERSION: 1996 12
METADATA_DATE: 1999 05 24
DATA_FILE_SIZE: 43809840
BYTE_COUNT: 5680
