FILENAME: O4610729.SWS.1009046.tif
QUADRANGLE_NAME: INGOMAR WEST
QUADRANT: SW
WEST_LONGITUDE: -107 30 0.00000
EAST_LONGITUDE: -107 26 15.00000
NORTH_LATITUDE: 46 33 45.00000
SOUTH_LATITUDE: 46 30 0.00000
PRODUCTION_DATE: 1999 5 17
RASTER_ORDER: LEFT_RIGHT/TOP_BOTTOM
BAND_ORGANIZATION: SINGLE FILE
BAND_CONTENT: BLACK&WHITE
BAND_CONTENT: UNDEFINED
BAND_CONTENT: UNDEFINED
BITS_PER_PIXEL: 8
SAMPLES_AND_LINES: 5662 7698
HORIZONTAL_DATUM: NAD83
HORIZONTAL_COORDINATE_SYSTEM: UTM
COORDINATE_ZONE: 13
HORIZONTAL_UNITS: METERS
HORIZONTAL_RESOLUTION: 1.00000
SECONDARY_HORIZONTAL_DATUM: NAD27
XY_ORIGIN: 307823.00000 5159885.00000
SECONDARY_XY_ORIGIN: 307866.24200 5159666.87200
NATION: US
NATION: "SCIENCE
STATE: MT
NW_QUAD_CORNER_XY: 308393.44100 5159584.48200
NE_QUAD_CORNER_XY: 313183.44800 5159434.52300
SE_QUAD_CORNERY_XY: 312968.90600 5152490.02600
SW_QUAD_CORNER_XY: 308173.39100 5152640.00200
SECONDARY_NW_QUAD_XY: 308387.59000 5159366.26000
SECONDARY_NE_QUAD_XY: 313177.74300 5159216.29700
SECONDARY_SE_QUAD_XY: 312963.20200 5152271.83400
SECONDARY_SW_QUAD_XY: 308167.54100 5152421.81400
RMSE_XY: 1.00000
IMAGE_SOURCE: BLACK AND WHITE FILM
SOURCE_IMAGE_ID: NAPP 9133 234
SOURCE_IMAGE_DATE: 1996 08 08
SOURCE_IMAGE_ID: NAPP 9135 042
SOURCE_IMAGE_DATE: 1996 08 19
SOURCE_IMAGE_ID: NAPP 9133 232
SOURCE_IMAGE_DATE: 1996 08 08
SOURCE_IMAGE_ID: NAPP 9133 236
SOURCE_IMAGE_DATE: 1996 08 08
SOURCE_DEM_DATE: 1956 00 00
AGENCY: WESTERN MAPPING CENTER (WMC)
PRODUCER: UNDEFINED
PRODUCTION_SYSTEM: GIS/MAGIC
COMPRESSION: UNDEFINED
STANDARD_VERSION: 1996 12
METADATA_DATE: 1999 05 24
DATA_FILE_SIZE: 43591738
BYTE_COUNT: 5662
