FILENAME: O4610729.SES.1009045.tif
QUADRANGLE_NAME: INGOMAR WEST
QUADRANT: SE
WEST_LONGITUDE: -107 26 15.00000
EAST_LONGITUDE: -107 22 30.00000
NORTH_LATITUDE: 46 33 45.00000
SOUTH_LATITUDE: 46 30 0.00000
PRODUCTION_DATE: 1999 5 17
RASTER_ORDER: LEFT_RIGHT/TOP_BOTTOM
BAND_ORGANIZATION: SINGLE FILE
BAND_CONTENT: BLACK&WHITE
BAND_CONTENT: UNDEFINED
BAND_CONTENT: UNDEFINED
BITS_PER_PIXEL: 8
SAMPLES_AND_LINES: 5656 7694
HORIZONTAL_DATUM: NAD83
HORIZONTAL_COORDINATE_SYSTEM: UTM
COORDINATE_ZONE: 13
HORIZONTAL_UNITS: METERS
HORIZONTAL_RESOLUTION: 1.00000
SECONDARY_HORIZONTAL_DATUM: NAD27
XY_ORIGIN: 312619.00000 5159735.00000
SECONDARY_XY_ORIGIN: 312662.14900 5159516.82000
NATION: US
NATION: "SCIENCE
STATE: MT
NW_QUAD_CORNER_XY: 313183.44800 5159434.52300
NE_QUAD_CORNER_XY: 317973.46700 5159288.36500
SE_QUAD_CORNERY_XY: 317764.43200 5152343.85100
SW_QUAD_CORNER_XY: 312968.90600 5152490.02600
SECONDARY_NW_QUAD_XY: 313177.74300 5159216.29700
SECONDARY_NE_QUAD_XY: 317967.90900 5159070.13400
SECONDARY_SE_QUAD_XY: 317758.87400 5152125.65400
SECONDARY_SW_QUAD_XY: 312963.20200 5152271.83400
RMSE_XY: 0.70000
IMAGE_SOURCE: BLACK AND WHITE FILM
SOURCE_IMAGE_ID: NAPP 9133 089
SOURCE_IMAGE_DATE: 1996 08 08
SOURCE_IMAGE_ID: NAPP 9133 234
SOURCE_IMAGE_DATE: 1996 08 08
SOURCE_IMAGE_ID: NAPP 9133 137
SOURCE_IMAGE_DATE: 1996 08 08
SOURCE_IMAGE_ID: NAPP 9133 136
SOURCE_IMAGE_DATE: 1996 08 08
SOURCE_IMAGE_ID: NAPP 9133 087
SOURCE_IMAGE_DATE: 1996 08 08
SOURCE_DEM_DATE: 1956 00 00
AGENCY: WESTERN MAPPING CENTER (WMC)
PRODUCER: UNDEFINED
PRODUCTION_SYSTEM: GIS/MAGIC
COMPRESSION: UNDEFINED
STANDARD_VERSION: 1996 12
METADATA_DATE: 1999 05 24
DATA_FILE_SIZE: 43522920
BYTE_COUNT: 5656
