FILENAME: O4610730.NWS.1009082.tif
QUADRANGLE_NAME: INGOMAR EAST
QUADRANT: NW
WEST_LONGITUDE: -107 22 30.00000
EAST_LONGITUDE: -107 18 45.00000
NORTH_LATITUDE: 46 37 30.00000
SOUTH_LATITUDE: 46 33 45.00000
PRODUCTION_DATE: 1999 5 17
RASTER_ORDER: LEFT_RIGHT/TOP_BOTTOM
BAND_ORGANIZATION: SINGLE FILE
BAND_CONTENT: BLACK&WHITE
BAND_CONTENT: UNDEFINED
BAND_CONTENT: UNDEFINED
BITS_PER_PIXEL: 8
SAMPLES_AND_LINES: 5646 7690
HORIZONTAL_DATUM: NAD83
HORIZONTAL_COORDINATE_SYSTEM: UTM
COORDINATE_ZONE: 13
HORIZONTAL_UNITS: METERS
HORIZONTAL_RESOLUTION: 1.00000
SECONDARY_HORIZONTAL_DATUM: NAD27
XY_ORIGIN: 317623.00000 5166534.00000
SECONDARY_XY_ORIGIN: 317666.10800 5166315.60000
NATION: US
NATION: "SCIENCE
STATE: MT
NW_QUAD_CORNER_XY: 318182.72100 5166232.94300
NE_QUAD_CORNER_XY: 322967.23900 5166090.60200
SE_QUAD_CORNERY_XY: 322763.49800 5159146.00700
SW_QUAD_CORNER_XY: 317973.46700 5159288.36500
SECONDARY_NW_QUAD_XY: 318177.16100 5166014.67800
SECONDARY_NE_QUAD_XY: 322961.82600 5165872.33200
SECONDARY_SE_QUAD_XY: 322758.08600 5158927.77200
SECONDARY_SW_QUAD_XY: 317967.90900 5159070.13400
RMSE_XY: 1.00000
IMAGE_SOURCE: BLACK AND WHITE FILM
SOURCE_IMAGE_ID: NAPP 9133 089
SOURCE_IMAGE_DATE: 1996 08 08
SOURCE_IMAGE_ID: NAPP 9133 133
SOURCE_IMAGE_DATE: 1996 08 08
SOURCE_IMAGE_ID: NAPP 9133 090
SOURCE_IMAGE_DATE: 1996 08 08
SOURCE_IMAGE_ID: NAPP 9133 091
SOURCE_IMAGE_DATE: 1996 08 08
SOURCE_DEM_DATE: 1956 00 00
AGENCY: WESTERN MAPPING CENTER (WMC)
PRODUCER: UNDEFINED
PRODUCTION_SYSTEM: GIS/MAGIC
COMPRESSION: UNDEFINED
STANDARD_VERSION: 1996 12
METADATA_DATE: 1999 05 24
DATA_FILE_SIZE: 43423386
BYTE_COUNT: 5646
