FILENAME: O4610734.SES.1008876.tif
QUADRANGLE_NAME: WEED CREEK WEST
QUADRANT: SE
WEST_LONGITUDE: -107 48 45.00000
EAST_LONGITUDE: -107 45 0.00000
NORTH_LATITUDE: 46 26 15.00000
SOUTH_LATITUDE: 46 22 30.00000
PRODUCTION_DATE: 1999 5 3
RASTER_ORDER: LEFT_RIGHT/TOP_BOTTOM
BAND_ORGANIZATION: SINGLE FILE
BAND_CONTENT: BLACK&WHITE
BAND_CONTENT: UNDEFINED
BAND_CONTENT: UNDEFINED
BITS_PER_PIXEL: 8
SAMPLES_AND_LINES: 5701 7716
HORIZONTAL_DATUM: NAD83
HORIZONTAL_COORDINATE_SYSTEM: UTM
COORDINATE_ZONE: 13
HORIZONTAL_UNITS: METERS
HORIZONTAL_RESOLUTION: 1.00000
SECONDARY_HORIZONTAL_DATUM: NAD27
XY_ORIGIN: 283350.00000 5146803.00000
SECONDARY_XY_ORIGIN: 283393.77300 5146585.20100
NATION: US
NATION: "SCIENCE
STATE: MT
NW_QUAD_CORNER_XY: 283948.66500 5146502.58100
NE_QUAD_CORNER_XY: 288749.62200 5146333.57600
SE_QUAD_CORNERY_XY: 288508.04300 5139389.28600
SW_QUAD_CORNER_XY: 283701.58800 5139558.31000
SECONDARY_NW_QUAD_XY: 283942.08500 5146284.45400
SECONDARY_NE_QUAD_XY: 288743.18800 5146115.44300
SECONDARY_SE_QUAD_XY: 288501.61000 5139171.19000
SECONDARY_SW_QUAD_XY: 283695.00800 5139340.21900
RMSE_XY: 1.50000
IMAGE_SOURCE: BLACK AND WHITE FILM
SOURCE_IMAGE_ID: NAPP 9131 272
SOURCE_IMAGE_DATE: 1996 07 29
SOURCE_IMAGE_ID: NAPP 9131 274
SOURCE_IMAGE_DATE: 1996 07 29
SOURCE_DEM_DATE: 1990 00 00
AGENCY: WESTERN MAPPING CENTER (WMC)
PRODUCER: UNDEFINED
PRODUCTION_SYSTEM: GIS/MAGIC
COMPRESSION: UNDEFINED
STANDARD_VERSION: 1996 12
METADATA_DATE: 1999 05 24
DATA_FILE_SIZE: 43994617
BYTE_COUNT: 5701
