FILENAME: O4610735.SWS.1008977.tif
QUADRANGLE_NAME: WEED CREEK EAST
QUADRANT: SW
WEST_LONGITUDE: -107 45 0.00000
EAST_LONGITUDE: -107 41 15.00000
NORTH_LATITUDE: 46 26 15.00000
SOUTH_LATITUDE: 46 22 30.00000
PRODUCTION_DATE: 1999 5 4
RASTER_ORDER: LEFT_RIGHT/TOP_BOTTOM
BAND_ORGANIZATION: SINGLE FILE
BAND_CONTENT: BLACK&WHITE
BAND_CONTENT: UNDEFINED
BAND_CONTENT: UNDEFINED
BITS_PER_PIXEL: 8
SAMPLES_AND_LINES: 5695 7713
HORIZONTAL_DATUM: NAD83
HORIZONTAL_COORDINATE_SYSTEM: UTM
COORDINATE_ZONE: 13
HORIZONTAL_UNITS: METERS
HORIZONTAL_RESOLUTION: 1.00000
SECONDARY_HORIZONTAL_DATUM: NAD27
XY_ORIGIN: 288157.00000 5146634.00000
SECONDARY_XY_ORIGIN: 288200.66000 5146416.05700
NATION: US
NATION: "SCIENCE
STATE: MT
NW_QUAD_CORNER_XY: 288749.62200 5146333.57600
NE_QUAD_CORNER_XY: 293550.59100 5146168.37400
SE_QUAD_CORNERY_XY: 293314.51000 5139224.06700
SW_QUAD_CORNER_XY: 288508.04300 5139389.28600
SECONDARY_NW_QUAD_XY: 288743.18800 5146115.44300
SECONDARY_NE_QUAD_XY: 293544.30300 5145950.23600
SECONDARY_SE_QUAD_XY: 293308.22300 5139005.96600
SECONDARY_SW_QUAD_XY: 288501.61000 5139171.19000
RMSE_XY: 1.40000
IMAGE_SOURCE: BLACK AND WHITE FILM
SOURCE_IMAGE_ID: NAPP 9131 149
SOURCE_IMAGE_DATE: 1996 07 29
SOURCE_IMAGE_ID: NAPP 9131 272
SOURCE_IMAGE_DATE: 1996 07 29
SOURCE_IMAGE_ID: NAPP 9131 151
SOURCE_IMAGE_DATE: 1996 07 29
SOURCE_DEM_DATE: 1973 00 00
AGENCY: WESTERN MAPPING CENTER (WMC)
PRODUCER: UNDEFINED
PRODUCTION_SYSTEM: GIS/MAGIC
COMPRESSION: UNDEFINED
STANDARD_VERSION: 1996 12
METADATA_DATE: 1999 05 24
DATA_FILE_SIZE: 43931230
BYTE_COUNT: 5695
