FILENAME: O4610736.NES.1009002.tif
QUADRANGLE_NAME: RUSKOSKY RIDGE
QUADRANT: NE
WEST_LONGITUDE: -107 33 45.00000
EAST_LONGITUDE: -107 30 0.00000
NORTH_LATITUDE: 46 30 0.00000
SOUTH_LATITUDE: 46 26 15.00000
PRODUCTION_DATE: 1999 5 4
RASTER_ORDER: LEFT_RIGHT/TOP_BOTTOM
BAND_ORGANIZATION: SINGLE FILE
BAND_CONTENT: BLACK&WHITE
BAND_CONTENT: UNDEFINED
BAND_CONTENT: UNDEFINED
BITS_PER_PIXEL: 8
SAMPLES_AND_LINES: 5673 7701
HORIZONTAL_DATUM: NAD83
HORIZONTAL_COORDINATE_SYSTEM: UTM
COORDINATE_ZONE: 13
HORIZONTAL_UNITS: METERS
HORIZONTAL_RESOLUTION: 1.00000
SECONDARY_HORIZONTAL_DATUM: NAD27
XY_ORIGIN: 302802.00000 5153094.00000
SECONDARY_XY_ORIGIN: 302845.31700 5152876.05300
NATION: US
NATION: "SCIENCE
STATE: MT
NW_QUAD_CORNER_XY: 303377.88900 5152793.77900
NE_QUAD_CORNER_XY: 308173.39100 5152640.00200
SE_QUAD_CORNERY_XY: 307953.57100 5145695.58300
SW_QUAD_CORNER_XY: 303152.56600 5145849.37800
SECONDARY_NW_QUAD_XY: 303371.89200 5152575.59700
SECONDARY_NE_QUAD_XY: 308167.54100 5152421.81400
SECONDARY_SE_QUAD_XY: 307947.72200 5145477.43100
SECONDARY_SW_QUAD_XY: 303146.57100 5145631.23100
RMSE_XY: 1.10000
IMAGE_SOURCE: BLACK AND WHITE FILM
SOURCE_IMAGE_ID: NAPP 9135 044
SOURCE_IMAGE_DATE: 1996 08 19
SOURCE_IMAGE_ID: NAPP 9135 046
SOURCE_IMAGE_DATE: 1996 08 19
SOURCE_IMAGE_ID: NAPP 9133 232
SOURCE_IMAGE_DATE: 1996 08 08
SOURCE_DEM_DATE: 1973 00 00
AGENCY: WESTERN MAPPING CENTER (WMC)
PRODUCER: UNDEFINED
PRODUCTION_SYSTEM: GIS/MAGIC
COMPRESSION: UNDEFINED
STANDARD_VERSION: 1996 12
METADATA_DATE: 1999 05 24
DATA_FILE_SIZE: 43693446
BYTE_COUNT: 5673
