FILENAME: O4610738.SWS.1009088.tif
QUADRANGLE_NAME: STEIE RANCH
QUADRANT: SW
WEST_LONGITUDE: -107 22 30.00000
EAST_LONGITUDE: -107 18 45.00000
NORTH_LATITUDE: 46 26 15.00000
SOUTH_LATITUDE: 46 22 30.00000
PRODUCTION_DATE: 1999 5 4
RASTER_ORDER: LEFT_RIGHT/TOP_BOTTOM
BAND_ORGANIZATION: SINGLE FILE
BAND_CONTENT: BLACK&WHITE
BAND_CONTENT: UNDEFINED
BAND_CONTENT: UNDEFINED
BITS_PER_PIXEL: 8
SAMPLES_AND_LINES: 5661 7690
HORIZONTAL_DATUM: NAD83
HORIZONTAL_COORDINATE_SYSTEM: UTM
COORDINATE_ZONE: 13
HORIZONTAL_UNITS: METERS
HORIZONTAL_RESOLUTION: 1.00000
SECONDARY_HORIZONTAL_DATUM: NAD27
XY_ORIGIN: 316997.00000 5145700.00000
SECONDARY_XY_ORIGIN: 317039.90000 5145481.95000
NATION: US
NATION: "SCIENCE
STATE: MT
NW_QUAD_CORNER_XY: 317555.61500 5145399.39900
NE_QUAD_CORNER_XY: 322356.65300 5145257.01000
SE_QUAD_CORNERY_XY: 322153.54900 5138312.60600
SW_QUAD_CORNER_XY: 317347.01600 5138455.01100
SECONDARY_NW_QUAD_XY: 317550.05800 5145181.23900
SECONDARY_NE_QUAD_XY: 322351.24300 5145038.84400
SECONDARY_SE_QUAD_XY: 322148.14000 5138094.47800
SECONDARY_SW_QUAD_XY: 317341.46100 5138236.88700
RMSE_XY: 0.90000
IMAGE_SOURCE: BLACK AND WHITE FILM
SOURCE_IMAGE_ID: NAPP 9133 083
SOURCE_IMAGE_DATE: 1996 08 08
SOURCE_IMAGE_ID: NAPP 9133 084
SOURCE_IMAGE_DATE: 1996 08 08
SOURCE_DEM_DATE: 1956 00 00
AGENCY: WESTERN MAPPING CENTER (WMC)
PRODUCER: UNDEFINED
PRODUCTION_SYSTEM: GIS/MAGIC
COMPRESSION: UNDEFINED
STANDARD_VERSION: 1996 12
METADATA_DATE: 1999 05 24
DATA_FILE_SIZE: 43538751
BYTE_COUNT: 5661
