FILENAME: O4610738.SES.1009087.tif
QUADRANGLE_NAME: STEIE RANCH
QUADRANT: SE
WEST_LONGITUDE: -107 18 45.00000
EAST_LONGITUDE: -107 15 0.00000
NORTH_LATITUDE: 46 26 15.00000
SOUTH_LATITUDE: 46 22 30.00000
PRODUCTION_DATE: 1999 5 4
RASTER_ORDER: LEFT_RIGHT/TOP_BOTTOM
BAND_ORGANIZATION: SINGLE FILE
BAND_CONTENT: BLACK&WHITE
BAND_CONTENT: UNDEFINED
BAND_CONTENT: UNDEFINED
BITS_PER_PIXEL: 8
SAMPLES_AND_LINES: 5655 7687
HORIZONTAL_DATUM: NAD83
HORIZONTAL_COORDINATE_SYSTEM: UTM
COORDINATE_ZONE: 13
HORIZONTAL_UNITS: METERS
HORIZONTAL_RESOLUTION: 1.00000
SECONDARY_HORIZONTAL_DATUM: NAD27
XY_ORIGIN: 321804.00000 5145558.00000
SECONDARY_XY_ORIGIN: 321846.82700 5145339.90300
NATION: US
NATION: "SCIENCE
STATE: MT
NW_QUAD_CORNER_XY: 322356.65300 5145257.01000
NE_QUAD_CORNER_XY: 327157.70200 5145118.42000
SE_QUAD_CORNERY_XY: 326960.09300 5138174.00300
SW_QUAD_CORNER_XY: 322153.54900 5138312.60600
SECONDARY_NW_QUAD_XY: 322351.24300 5145038.84400
SECONDARY_NE_QUAD_XY: 327152.43800 5144900.25100
SECONDARY_SE_QUAD_XY: 326954.83000 5137955.87000
SECONDARY_SW_QUAD_XY: 322148.14000 5138094.47800
RMSE_XY: 1.10000
IMAGE_SOURCE: BLACK AND WHITE FILM
SOURCE_IMAGE_ID: NAPP 9126 024
SOURCE_IMAGE_DATE: 1996 07 14
SOURCE_DEM_DATE: 1956 00 00
AGENCY: WESTERN MAPPING CENTER (WMC)
PRODUCER: UNDEFINED
PRODUCTION_SYSTEM: GIS/MAGIC
COMPRESSION: UNDEFINED
STANDARD_VERSION: 1996 12
METADATA_DATE: 1999 05 24
DATA_FILE_SIZE: 43475640
BYTE_COUNT: 5655
