FILENAME: O4610740.SWS.1008607.tif
QUADRANGLE_NAME: VANANDA
QUADRANT: SW
WEST_LONGITUDE: -107 7 30.00000
EAST_LONGITUDE: -107 3 45.00000
NORTH_LATITUDE: 46 26 15.00000
SOUTH_LATITUDE: 46 22 30.00000
PRODUCTION_DATE: 1999 5 10
RASTER_ORDER: LEFT_RIGHT/TOP_BOTTOM
BAND_ORGANIZATION: SINGLE FILE
BAND_CONTENT: BLACK&WHITE
BAND_CONTENT: UNDEFINED
BAND_CONTENT: UNDEFINED
BITS_PER_PIXEL: 8
SAMPLES_AND_LINES: 5638 7675
HORIZONTAL_DATUM: NAD83
HORIZONTAL_COORDINATE_SYSTEM: UTM
COORDINATE_ZONE: 13
HORIZONTAL_UNITS: METERS
HORIZONTAL_RESOLUTION: 1.00000
SECONDARY_HORIZONTAL_DATUM: NAD27
XY_ORIGIN: 336224.00000 5145153.00000
SECONDARY_XY_ORIGIN: 336266.50600 5144934.80900
NATION: US
NATION: "SCIENCE
STATE: MT
NW_QUAD_CORNER_XY: 336759.82900 5144852.64300
NE_QUAD_CORNER_XY: 341560.90700 5144725.45500
SE_QUAD_CORNERY_XY: 341379.77900 5137780.99600
SW_QUAD_CORNER_XY: 336573.20800 5137908.19800
SECONDARY_NW_QUAD_XY: 336754.85700 5144634.46600
SECONDARY_NE_QUAD_XY: 341556.08200 5144507.27400
SECONDARY_SE_QUAD_XY: 341374.95500 5137562.85100
SECONDARY_SW_QUAD_XY: 336568.23700 5137690.05700
RMSE_XY: 0.90000
IMAGE_SOURCE: BLACK AND WHITE FILM
SOURCE_IMAGE_ID: NAPP 10764 059
SOURCE_IMAGE_DATE: 1997 09 20
SOURCE_DEM_DATE: 1956 00 00
AGENCY: WESTERN MAPPING CENTER (WMC)
PRODUCER: UNDEFINED
PRODUCTION_SYSTEM: GIS/MAGIC
COMPRESSION: UNDEFINED
STANDARD_VERSION: 1996 12
METADATA_DATE: 1999 05 24
DATA_FILE_SIZE: 43277288
BYTE_COUNT: 5638
