FILENAME: O4610740.NWS.1008605.tif
QUADRANGLE_NAME: VANANDA
QUADRANT: NW
WEST_LONGITUDE: -107 7 30.00000
EAST_LONGITUDE: -107 3 45.00000
NORTH_LATITUDE: 46 30 0.00000
SOUTH_LATITUDE: 46 26 15.00000
PRODUCTION_DATE: 1999 5 10
RASTER_ORDER: LEFT_RIGHT/TOP_BOTTOM
BAND_ORGANIZATION: SINGLE FILE
BAND_CONTENT: BLACK&WHITE
BAND_CONTENT: UNDEFINED
BAND_CONTENT: UNDEFINED
BITS_PER_PIXEL: 8
SAMPLES_AND_LINES: 5633 7675
HORIZONTAL_DATUM: NAD83
HORIZONTAL_COORDINATE_SYSTEM: UTM
COORDINATE_ZONE: 13
HORIZONTAL_UNITS: METERS
HORIZONTAL_RESOLUTION: 1.00000
SECONDARY_HORIZONTAL_DATUM: NAD27
XY_ORIGIN: 336411.00000 5152098.00000
SECONDARY_XY_ORIGIN: 336453.59300 5151879.77000
NATION: US
NATION: "SCIENCE
STATE: MT
NW_QUAD_CORNER_XY: 336946.64600 5151797.15500
NE_QUAD_CORNER_XY: 341742.22500 5151669.98000
SE_QUAD_CORNERY_XY: 341560.90700 5144725.45500
SW_QUAD_CORNER_XY: 336759.82900 5144852.64300
SECONDARY_NW_QUAD_XY: 336941.67300 5151578.94200
SECONDARY_NE_QUAD_XY: 341737.39900 5151451.76300
SECONDARY_SE_QUAD_XY: 341556.08200 5144507.27400
SECONDARY_SW_QUAD_XY: 336754.85700 5144634.46600
RMSE_XY: 1.50000
IMAGE_SOURCE: BLACK AND WHITE FILM
SOURCE_IMAGE_ID: NAPP 10764 061
SOURCE_IMAGE_DATE: 1997 09 20
SOURCE_IMAGE_ID: NAPP 10764 063
SOURCE_IMAGE_DATE: 1997 09 20
SOURCE_DEM_DATE: 1956 00 00
AGENCY: WESTERN MAPPING CENTER (WMC)
PRODUCER: UNDEFINED
PRODUCTION_SYSTEM: GIS/MAGIC
COMPRESSION: UNDEFINED
STANDARD_VERSION: 1996 12
METADATA_DATE: 1999 05 24
DATA_FILE_SIZE: 43238908
BYTE_COUNT: 5633
