FILENAME: O4610740.NES.1008604.tif
QUADRANGLE_NAME: VANANDA
QUADRANT: NE
WEST_LONGITUDE: -107 3 45.00000
EAST_LONGITUDE: -107 0 0.00000
NORTH_LATITUDE: 46 30 0.00000
SOUTH_LATITUDE: 46 26 15.00000
PRODUCTION_DATE: 1999 5 10
RASTER_ORDER: LEFT_RIGHT/TOP_BOTTOM
BAND_ORGANIZATION: SINGLE FILE
BAND_CONTENT: BLACK&WHITE
BAND_CONTENT: UNDEFINED
BAND_CONTENT: UNDEFINED
BITS_PER_PIXEL: 8
SAMPLES_AND_LINES: 5627 7671
HORIZONTAL_DATUM: NAD83
HORIZONTAL_COORDINATE_SYSTEM: UTM
COORDINATE_ZONE: 13
HORIZONTAL_UNITS: METERS
HORIZONTAL_RESOLUTION: 1.00000
SECONDARY_HORIZONTAL_DATUM: NAD27
XY_ORIGIN: 341212.00000 5151971.00000
SECONDARY_XY_ORIGIN: 341254.45900 5151752.74300
NATION: US
NATION: "SCIENCE
STATE: MT
NW_QUAD_CORNER_XY: 341742.22500 5151669.98000
NE_QUAD_CORNER_XY: 346537.81400 5151546.60500
SE_QUAD_CORNERY_XY: 346361.99500 5144602.06600
SW_QUAD_CORNER_XY: 341560.90700 5144725.45500
SECONDARY_NW_QUAD_XY: 341737.39900 5151451.76300
SECONDARY_NE_QUAD_XY: 346533.13400 5151328.38400
SECONDARY_SE_QUAD_XY: 346357.31600 5144383.88100
SECONDARY_SW_QUAD_XY: 341556.08200 5144507.27400
RMSE_XY: 1.50000
IMAGE_SOURCE: BLACK AND WHITE FILM
SOURCE_IMAGE_ID: NAPP 9099 117
SOURCE_IMAGE_DATE: 1996 07 14
SOURCE_DEM_DATE: 1956 00 00
AGENCY: WESTERN MAPPING CENTER (WMC)
PRODUCER: UNDEFINED
PRODUCTION_SYSTEM: GIS/MAGIC
COMPRESSION: UNDEFINED
STANDARD_VERSION: 1996 12
METADATA_DATE: 1999 05 24
DATA_FILE_SIZE: 43170344
BYTE_COUNT: 5627
