FILENAME: O4610741.SES.1008820.tif
QUADRANGLE_NAME: PINE VIEW
QUADRANT: SE
WEST_LONGITUDE: -107 56 15.00000
EAST_LONGITUDE: -107 52 30.00000
NORTH_LATITUDE: 46 18 45.00000
SOUTH_LATITUDE: 46 15 0.00000
PRODUCTION_DATE: 1999 5 7
RASTER_ORDER: LEFT_RIGHT/TOP_BOTTOM
BAND_ORGANIZATION: SINGLE FILE
BAND_CONTENT: BLACK&WHITE
BAND_CONTENT: UNDEFINED
BAND_CONTENT: UNDEFINED
BITS_PER_PIXEL: 8
SAMPLES_AND_LINES: 5723 7724
HORIZONTAL_DATUM: NAD83
HORIZONTAL_COORDINATE_SYSTEM: UTM
COORDINATE_ZONE: 13
HORIZONTAL_UNITS: METERS
HORIZONTAL_RESOLUTION: 1.00000
SECONDARY_HORIZONTAL_DATUM: NAD27
XY_ORIGIN: 273221.00000 5133264.00000
SECONDARY_XY_ORIGIN: 273264.99400 5133046.62300
NATION: US
NATION: "SCIENCE
STATE: MT
NW_QUAD_CORNER_XY: 273830.90800 5132963.59100
NE_QUAD_CORNER_XY: 278642.83200 5132786.94100
SE_QUAD_CORNERY_XY: 278390.78400 5125842.80200
SW_QUAD_CORNER_XY: 273573.37200 5126019.46900
SECONDARY_NW_QUAD_XY: 273824.03700 5132745.54700
SECONDARY_NE_QUAD_XY: 278636.10800 5132568.89200
SECONDARY_SE_QUAD_XY: 278384.06200 5125624.79200
SECONDARY_SW_QUAD_XY: 273566.50300 5125801.46400
RMSE_XY: 1.30000
IMAGE_SOURCE: BLACK AND WHITE FILM
SOURCE_IMAGE_ID: NAPP 9151 065
SOURCE_IMAGE_DATE: 1996 09 11
SOURCE_IMAGE_ID: NAPP 9151 064
SOURCE_IMAGE_DATE: 1996 09 11
SOURCE_IMAGE_ID: NAPP 9151 067
SOURCE_IMAGE_DATE: 1996 09 11
SOURCE_IMAGE_ID: NAPP 9132 030
SOURCE_IMAGE_DATE: 1996 07 29
SOURCE_IMAGE_ID: NAPP 9132 032
SOURCE_IMAGE_DATE: 1996 07 29
SOURCE_DEM_DATE: 1973 00 00
AGENCY: WESTERN MAPPING CENTER (WMC)
PRODUCER: UNDEFINED
PRODUCTION_SYSTEM: GIS/MAGIC
COMPRESSION: UNDEFINED
STANDARD_VERSION: 1996 12
METADATA_DATE: 1999 05 24
DATA_FILE_SIZE: 44210175
BYTE_COUNT: 5723
