FILENAME: O4610743.SWS.1008981.tif
QUADRANGLE_NAME: MEXICAN BUTTES
QUADRANT: SW
WEST_LONGITUDE: -107 45 0.00000
EAST_LONGITUDE: -107 41 15.00000
NORTH_LATITUDE: 46 18 45.00000
SOUTH_LATITUDE: 46 15 0.00000
PRODUCTION_DATE: 1999 5 7
RASTER_ORDER: LEFT_RIGHT/TOP_BOTTOM
BAND_ORGANIZATION: SINGLE FILE
BAND_CONTENT: BLACK&WHITE
BAND_CONTENT: UNDEFINED
BAND_CONTENT: UNDEFINED
BITS_PER_PIXEL: 8
SAMPLES_AND_LINES: 5706 7713
HORIZONTAL_DATUM: NAD83
HORIZONTAL_COORDINATE_SYSTEM: UTM
COORDINATE_ZONE: 13
HORIZONTAL_UNITS: METERS
HORIZONTAL_RESOLUTION: 1.00000
SECONDARY_HORIZONTAL_DATUM: NAD27
XY_ORIGIN: 287674.00000 5132746.00000
SECONDARY_XY_ORIGIN: 287717.48500 5132528.07500
NATION: US
NATION: "SCIENCE
STATE: MT
NW_QUAD_CORNER_XY: 288266.71700 5132445.05600
NE_QUAD_CORNER_XY: 293078.67600 5132279.82000
SE_QUAD_CORNERY_XY: 292843.09000 5125335.63200
SW_QUAD_CORNER_XY: 288025.64400 5125500.88400
SECONDARY_NW_QUAD_XY: 288260.28500 5132226.99700
SECONDARY_NE_QUAD_XY: 293072.39100 5132061.75600
SECONDARY_SE_QUAD_XY: 292836.80600 5125117.60600
SECONDARY_SW_QUAD_XY: 288019.21300 5125282.86300
RMSE_XY: 1.40000
IMAGE_SOURCE: BLACK AND WHITE FILM
SOURCE_IMAGE_ID: NAPP 9139 035
SOURCE_IMAGE_DATE: 1996 08 26
SOURCE_IMAGE_ID: NAPP 9131 276
SOURCE_IMAGE_DATE: 1996 07 29
SOURCE_IMAGE_ID: NAPP 9139 037
SOURCE_IMAGE_DATE: 1996 08 26
SOURCE_IMAGE_ID: NAPP 9139 033
SOURCE_IMAGE_DATE: 1996 08 26
SOURCE_DEM_DATE: 1973 00 00
AGENCY: WESTERN MAPPING CENTER (WMC)
PRODUCER: UNDEFINED
PRODUCTION_SYSTEM: GIS/MAGIC
COMPRESSION: UNDEFINED
STANDARD_VERSION: 1996 12
METADATA_DATE: 1999 05 24
DATA_FILE_SIZE: 44016084
BYTE_COUNT: 5706
