FILENAME: O4610744.SWS.1009330.tif
QUADRANGLE_NAME: DEVILS KITCHEN
QUADRANT: SW
WEST_LONGITUDE: -107 37 30.00000
EAST_LONGITUDE: -107 33 45.00000
NORTH_LATITUDE: 46 18 45.00000
SOUTH_LATITUDE: 46 15 0.00000
PRODUCTION_DATE: 1999 5 7
RASTER_ORDER: LEFT_RIGHT/TOP_BOTTOM
BAND_ORGANIZATION: SINGLE FILE
BAND_CONTENT: BLACK&WHITE
BAND_CONTENT: UNDEFINED
BAND_CONTENT: UNDEFINED
BITS_PER_PIXEL: 8
SAMPLES_AND_LINES: 5694 7705
HORIZONTAL_DATUM: NAD83
HORIZONTAL_COORDINATE_SYSTEM: UTM
COORDINATE_ZONE: 13
HORIZONTAL_UNITS: METERS
HORIZONTAL_RESOLUTION: 1.00000
SECONDARY_HORIZONTAL_DATUM: NAD27
XY_ORIGIN: 297310.00000 5132419.00000
SECONDARY_XY_ORIGIN: 297353.15600 5132201.05100
NATION: US
NATION: "SCIENCE
STATE: MT
NW_QUAD_CORNER_XY: 297890.64700 5132118.38700
NE_QUAD_CORNER_XY: 302702.62800 5131960.75800
SE_QUAD_CORNERY_XY: 302478.01400 5125016.53900
SW_QUAD_CORNER_XY: 297660.54700 5125174.18400
SECONDARY_NW_QUAD_XY: 297884.50800 5131900.31800
SECONDARY_NE_QUAD_XY: 302696.63500 5131742.68400
SECONDARY_SE_QUAD_XY: 302472.02200 5124798.50400
SECONDARY_SW_QUAD_XY: 297654.40900 5124956.15300
RMSE_XY: 1.80000
IMAGE_SOURCE: BLACK AND WHITE FILM
SOURCE_IMAGE_ID: NAPP 9135 048
SOURCE_IMAGE_DATE: 1996 08 19
SOURCE_IMAGE_ID: NAPP 9135 144
SOURCE_IMAGE_DATE: 1996 08 19
SOURCE_IMAGE_ID: NAPP 9135 131
SOURCE_IMAGE_DATE: 1996 08 19
SOURCE_IMAGE_ID: NAPP 9135 135
SOURCE_IMAGE_DATE: 1996 08 19
SOURCE_IMAGE_ID: NAPP 9135 050
SOURCE_IMAGE_DATE: 1996 08 19
SOURCE_DEM_DATE: 1973 00 00
AGENCY: WESTERN MAPPING CENTER (WMC)
PRODUCER: UNDEFINED
PRODUCTION_SYSTEM: GIS/MAGIC
COMPRESSION: UNDEFINED
STANDARD_VERSION: 1996 12
METADATA_DATE: 1999 06 15
DATA_FILE_SIZE: 43877964
BYTE_COUNT: 5694
