FILENAME: O4610744.SES.1009329.tif
QUADRANGLE_NAME: DEVILS KITCHEN
QUADRANT: SE
WEST_LONGITUDE: -107 33 45.00000
EAST_LONGITUDE: -107 30 0.00000
NORTH_LATITUDE: 46 18 45.00000
SOUTH_LATITUDE: 46 15 0.00000
PRODUCTION_DATE: 1999 5 7
RASTER_ORDER: LEFT_RIGHT/TOP_BOTTOM
BAND_ORGANIZATION: SINGLE FILE
BAND_CONTENT: BLACK&WHITE
BAND_CONTENT: UNDEFINED
BAND_CONTENT: UNDEFINED
BITS_PER_PIXEL: 8
SAMPLES_AND_LINES: 5688 7701
HORIZONTAL_DATUM: NAD83
HORIZONTAL_COORDINATE_SYSTEM: UTM
COORDINATE_ZONE: 13
HORIZONTAL_UNITS: METERS
HORIZONTAL_RESOLUTION: 1.00000
SECONDARY_HORIZONTAL_DATUM: NAD27
XY_ORIGIN: 302128.00000 5132261.00000
SECONDARY_XY_ORIGIN: 302170.99100 5132043.03900
NATION: US
NATION: "SCIENCE
STATE: MT
NW_QUAD_CORNER_XY: 302702.62800 5131960.75800
NE_QUAD_CORNER_XY: 307514.62100 5131806.93200
SE_QUAD_CORNERY_XY: 307295.49100 5124862.69800
SW_QUAD_CORNER_XY: 302478.01400 5125016.53900
SECONDARY_NW_QUAD_XY: 302696.63500 5131742.68400
SECONDARY_NE_QUAD_XY: 307508.77400 5131588.85300
SECONDARY_SE_QUAD_XY: 307289.64500 5124644.65800
SECONDARY_SW_QUAD_XY: 302472.02200 5124798.50400
RMSE_XY: 0.70000
IMAGE_SOURCE: BLACK AND WHITE FILM
SOURCE_IMAGE_ID: NAPP 9135 050
SOURCE_IMAGE_DATE: 1996 08 19
SOURCE_IMAGE_ID: NAPP 9135 133
SOURCE_IMAGE_DATE: 1996 08 19
SOURCE_IMAGE_ID: NAPP 9135 052
SOURCE_IMAGE_DATE: 1996 08 19
SOURCE_IMAGE_ID: NAPP 9133 226
SOURCE_IMAGE_DATE: 1996 08 08
SOURCE_DEM_DATE: 1973 00 00
AGENCY: WESTERN MAPPING CENTER (WMC)
PRODUCER: UNDEFINED
PRODUCTION_SYSTEM: GIS/MAGIC
COMPRESSION: UNDEFINED
STANDARD_VERSION: 1996 12
METADATA_DATE: 1999 06 15
DATA_FILE_SIZE: 43808976
BYTE_COUNT: 5688
