FILENAME: O4610744.NES.1009327.tif
QUADRANGLE_NAME: DEVILS KITCHEN
QUADRANT: NE
WEST_LONGITUDE: -107 33 45.00000
EAST_LONGITUDE: -107 30 0.00000
NORTH_LATITUDE: 46 22 30.00000
SOUTH_LATITUDE: 46 18 45.00000
PRODUCTION_DATE: 1999 5 7
RASTER_ORDER: LEFT_RIGHT/TOP_BOTTOM
BAND_ORGANIZATION: SINGLE FILE
BAND_CONTENT: BLACK&WHITE
BAND_CONTENT: UNDEFINED
BAND_CONTENT: UNDEFINED
BITS_PER_PIXEL: 8
SAMPLES_AND_LINES: 5683 7702
HORIZONTAL_DATUM: NAD83
HORIZONTAL_COORDINATE_SYSTEM: UTM
COORDINATE_ZONE: 13
HORIZONTAL_UNITS: METERS
HORIZONTAL_RESOLUTION: 1.00000
SECONDARY_HORIZONTAL_DATUM: NAD27
XY_ORIGIN: 302352.00000 5139206.00000
SECONDARY_XY_ORIGIN: 302395.10000 5138988.04300
NATION: US
NATION: "SCIENCE
STATE: MT
NW_QUAD_CORNER_XY: 302927.47900 5138905.03700
NE_QUAD_CORNER_XY: 307733.98100 5138751.22700
SE_QUAD_CORNERY_XY: 307514.62100 5131806.93200
SW_QUAD_CORNER_XY: 302702.62800 5131960.75800
SECONDARY_NW_QUAD_XY: 302921.48500 5138686.92600
SECONDARY_NE_QUAD_XY: 307728.13300 5138533.11100
SECONDARY_SE_QUAD_XY: 307508.77400 5131588.85300
SECONDARY_SW_QUAD_XY: 302696.63500 5131742.68400
RMSE_XY: 1.10000
IMAGE_SOURCE: BLACK AND WHITE FILM
SOURCE_IMAGE_ID: NAPP 9135 048
SOURCE_IMAGE_DATE: 1996 08 19
SOURCE_IMAGE_ID: NAPP 9135 135
SOURCE_IMAGE_DATE: 1996 08 19
SOURCE_IMAGE_ID: NAPP 9135 050
SOURCE_IMAGE_DATE: 1996 08 19
SOURCE_IMAGE_ID: NAPP 9135 046
SOURCE_IMAGE_DATE: 1996 08 19
SOURCE_IMAGE_ID: NAPP 9133 228
SOURCE_IMAGE_DATE: 1996 08 08
SOURCE_DEM_DATE: 1973 00 00
AGENCY: WESTERN MAPPING CENTER (WMC)
PRODUCER: UNDEFINED
PRODUCTION_SYSTEM: GIS/MAGIC
COMPRESSION: UNDEFINED
STANDARD_VERSION: 1996 12
METADATA_DATE: 1999 06 15
DATA_FILE_SIZE: 43776149
BYTE_COUNT: 5683
