FILENAME: O4610745.NWS.1009032.tif
QUADRANGLE_NAME: RANCHER CEMETERY
QUADRANT: NW
WEST_LONGITUDE: -107 30 0.00000
EAST_LONGITUDE: -107 26 15.00000
NORTH_LATITUDE: 46 22 30.00000
SOUTH_LATITUDE: 46 18 45.00000
PRODUCTION_DATE: 1999 5 7
RASTER_ORDER: LEFT_RIGHT/TOP_BOTTOM
BAND_ORGANIZATION: SINGLE FILE
BAND_CONTENT: BLACK&WHITE
BAND_CONTENT: UNDEFINED
BAND_CONTENT: UNDEFINED
BITS_PER_PIXEL: 8
SAMPLES_AND_LINES: 5678 7698
HORIZONTAL_DATUM: NAD83
HORIZONTAL_COORDINATE_SYSTEM: UTM
COORDINATE_ZONE: 13
HORIZONTAL_UNITS: METERS
HORIZONTAL_RESOLUTION: 1.00000
SECONDARY_HORIZONTAL_DATUM: NAD27
XY_ORIGIN: 307164.00000 5139052.00000
SECONDARY_XY_ORIGIN: 307206.93000 5138834.03200
NATION: US
NATION: "SCIENCE
STATE: MT
NW_QUAD_CORNER_XY: 307733.98100 5138751.22700
NE_QUAD_CORNER_XY: 312540.49300 5138601.21800
SE_QUAD_CORNERY_XY: 312326.62300 5131656.90800
SW_QUAD_CORNER_XY: 307514.62100 5131806.93200
SECONDARY_NW_QUAD_XY: 307728.13300 5138533.11100
SECONDARY_NE_QUAD_XY: 312534.79100 5138383.09800
SECONDARY_SE_QUAD_XY: 312320.92300 5131438.82500
SECONDARY_SW_QUAD_XY: 307508.77400 5131588.85300
RMSE_XY: 1.10000
IMAGE_SOURCE: BLACK AND WHITE FILM
SOURCE_IMAGE_ID: NAPP 9133 228
SOURCE_IMAGE_DATE: 1996 08 08
SOURCE_IMAGE_ID: NAPP 9133 226
SOURCE_IMAGE_DATE: 1996 08 08
SOURCE_IMAGE_ID: NAPP 9133 141
SOURCE_IMAGE_DATE: 1996 08 08
SOURCE_DEM_DATE: 1956 00 00
AGENCY: WESTERN MAPPING CENTER (WMC)
PRODUCER: UNDEFINED
PRODUCTION_SYSTEM: GIS/MAGIC
COMPRESSION: UNDEFINED
STANDARD_VERSION: 1996 12
METADATA_DATE: 1999 05 24
DATA_FILE_SIZE: 43714922
BYTE_COUNT: 5678
