FILENAME: O4610746.SWS.1009092.tif
QUADRANGLE_NAME: MYERS
QUADRANT: SW
WEST_LONGITUDE: -107 22 30.00000
EAST_LONGITUDE: -107 18 45.00000
NORTH_LATITUDE: 46 18 45.00000
SOUTH_LATITUDE: 46 15 0.00000
PRODUCTION_DATE: 1999 5 7
RASTER_ORDER: LEFT_RIGHT/TOP_BOTTOM
BAND_ORGANIZATION: SINGLE FILE
BAND_CONTENT: BLACK&WHITE
BAND_CONTENT: UNDEFINED
BAND_CONTENT: UNDEFINED
BITS_PER_PIXEL: 8
SAMPLES_AND_LINES: 5671 7690
HORIZONTAL_DATUM: NAD83
HORIZONTAL_COORDINATE_SYSTEM: UTM
COORDINATE_ZONE: 13
HORIZONTAL_UNITS: METERS
HORIZONTAL_RESOLUTION: 1.00000
SECONDARY_HORIZONTAL_DATUM: NAD27
XY_ORIGIN: 316581.00000 5131811.00000
SECONDARY_XY_ORIGIN: 316623.67900 5131592.97500
NATION: US
NATION: "SCIENCE
STATE: MT
NW_QUAD_CORNER_XY: 317138.63600 5131510.68700
NE_QUAD_CORNER_XY: 321950.65900 5131368.26700
SE_QUAD_CORNERY_XY: 321747.98100 5124423.99200
SW_QUAD_CORNER_XY: 316930.47500 5124566.42500
SECONDARY_NW_QUAD_XY: 317133.08200 5131292.59900
SECONDARY_NE_QUAD_XY: 321945.25000 5131150.17600
SECONDARY_SE_QUAD_XY: 321742.57400 5124205.93800
SECONDARY_SW_QUAD_XY: 316924.92200 5124348.37600
RMSE_XY: 0.90000
IMAGE_SOURCE: BLACK AND WHITE FILM
SOURCE_IMAGE_ID: NAPP 9133 079
SOURCE_IMAGE_DATE: 1996 08 08
SOURCE_IMAGE_ID: NAPP 9133 143
SOURCE_IMAGE_DATE: 1996 08 08
SOURCE_IMAGE_ID: NAPP 9133 078
SOURCE_IMAGE_DATE: 1996 08 08
SOURCE_IMAGE_ID: NAPP 9133 081
SOURCE_IMAGE_DATE: 1996 08 08
SOURCE_DEM_DATE: 1980 00 00
AGENCY: WESTERN MAPPING CENTER (WMC)
PRODUCER: UNDEFINED
PRODUCTION_SYSTEM: GIS/MAGIC
COMPRESSION: UNDEFINED
STANDARD_VERSION: 1996 12
METADATA_DATE: 1999 05 24
DATA_FILE_SIZE: 43615661
BYTE_COUNT: 5671
