FILENAME: O4610747.NWS.1008573.tif
QUADRANGLE_NAME: HYSHAM
QUADRANT: NW
WEST_LONGITUDE: -107 15 0.00000
EAST_LONGITUDE: -107 11 15.00000
NORTH_LATITUDE: 46 22 30.00000
SOUTH_LATITUDE: 46 18 45.00000
PRODUCTION_DATE: 1999 5 10
RASTER_ORDER: LEFT_RIGHT/TOP_BOTTOM
BAND_ORGANIZATION: SINGLE FILE
BAND_CONTENT: BLACK&WHITE
BAND_CONTENT: UNDEFINED
BAND_CONTENT: UNDEFINED
BITS_PER_PIXEL: 8
SAMPLES_AND_LINES: 5655 7683
HORIZONTAL_DATUM: NAD83
HORIZONTAL_COORDINATE_SYSTEM: UTM
COORDINATE_ZONE: 13
HORIZONTAL_UNITS: METERS
HORIZONTAL_RESOLUTION: 1.00000
SECONDARY_HORIZONTAL_DATUM: NAD27
XY_ORIGIN: 326413.00000 5138475.00000
SECONDARY_XY_ORIGIN: 326455.65400 5138256.89300
NATION: US
NATION: "SCIENCE
STATE: MT
NW_QUAD_CORNER_XY: 326960.09300 5138174.00300
NE_QUAD_CORNER_XY: 331766.64600 5138039.20000
SE_QUAD_CORNERY_XY: 331574.73200 5131094.83300
SW_QUAD_CORNER_XY: 326762.69100 5131229.65000
SECONDARY_NW_QUAD_XY: 326954.83000 5137955.87000
SECONDARY_NE_QUAD_XY: 331761.52900 5137821.06300
SECONDARY_SE_QUAD_XY: 331569.61600 5130876.73300
SECONDARY_SW_QUAD_XY: 326757.42900 5131011.55400
RMSE_XY: 1.20000
IMAGE_SOURCE: BLACK AND WHITE FILM
SOURCE_IMAGE_ID: NAPP 9100 034
SOURCE_IMAGE_DATE: 1996 07 14
SOURCE_IMAGE_ID: NAPP 9126 027
SOURCE_IMAGE_DATE: 1996 07 14
SOURCE_IMAGE_ID: NAPP 9126 026
SOURCE_IMAGE_DATE: 1996 07 14
SOURCE_IMAGE_ID: NAPP 10765 006
SOURCE_IMAGE_DATE: 1997 09 23
SOURCE_IMAGE_ID: NAPP 10765 007
SOURCE_IMAGE_DATE: 1997 09 23
SOURCE_DEM_DATE: 1983 00 00
AGENCY: WESTERN MAPPING CENTER (WMC)
PRODUCER: UNDEFINED
PRODUCTION_SYSTEM: GIS/MAGIC
COMPRESSION: UNDEFINED
STANDARD_VERSION: 1996 12
METADATA_DATE: 1999 05 24
DATA_FILE_SIZE: 43453020
BYTE_COUNT: 5655
