FILENAME: O4610750.SWS.1006815.tif
QUADRANGLE_NAME: MUD BUTTE
QUADRANT: SW
WEST_LONGITUDE: -107 52 30.00000
EAST_LONGITUDE: -107 48 45.00000
NORTH_LATITUDE: 46 11 15.00000
SOUTH_LATITUDE: 46 7 30.00000
PRODUCTION_DATE: 1999 4 23
RASTER_ORDER: LEFT_RIGHT/TOP_BOTTOM
BAND_ORGANIZATION: SINGLE FILE
BAND_CONTENT: BLACK&WHITE
BAND_CONTENT: UNDEFINED
BAND_CONTENT: UNDEFINED
BITS_PER_PIXEL: 8
SAMPLES_AND_LINES: 5728 7720
HORIZONTAL_DATUM: NAD83
HORIZONTAL_COORDINATE_SYSTEM: UTM
COORDINATE_ZONE: 13
HORIZONTAL_UNITS: METERS
HORIZONTAL_RESOLUTION: 1.00000
SECONDARY_HORIZONTAL_DATUM: NAD27
XY_ORIGIN: 277535.00000 5119199.00000
SECONDARY_XY_ORIGIN: 277578.86000 5118981.61100
NATION: US
NATION: "SCIENCE
STATE: MT
NW_QUAD_CORNER_XY: 278139.00200 5118898.72100
NE_QUAD_CORNER_XY: 282961.90800 5118725.84300
SE_QUAD_CORNERY_XY: 282715.86700 5111781.80400
SW_QUAD_CORNER_XY: 277887.48500 5111954.69600
SECONDARY_NW_QUAD_XY: 278132.28000 5118680.74900
SECONDARY_NE_QUAD_XY: 282955.33300 5118507.86600
SECONDARY_SE_QUAD_XY: 282709.29300 5111563.86700
SECONDARY_SW_QUAD_XY: 277880.76500 5111736.76400
RMSE_XY: 1.60000
IMAGE_SOURCE: BLACK AND WHITE FILM
SOURCE_IMAGE_ID: NAPP 9132 028
SOURCE_IMAGE_DATE: 1996 07 29
SOURCE_IMAGE_ID: NAPP 9151 062
SOURCE_IMAGE_DATE: 1996 09 11
SOURCE_IMAGE_ID: NAPP 9132 029
SOURCE_IMAGE_DATE: 1996 07 29
SOURCE_IMAGE_ID: NAPP 9132 030
SOURCE_IMAGE_DATE: 1996 07 29
SOURCE_DEM_DATE: 1973 00 00
AGENCY: WESTERN MAPPING CENTER (WMC)
PRODUCER: UNDEFINED
PRODUCTION_SYSTEM: GIS/MAGIC
COMPRESSION: UNDEFINED
STANDARD_VERSION: 1996 12
METADATA_DATE: 1999 05 18
DATA_FILE_SIZE: 44225888
BYTE_COUNT: 5728
