FILENAME: O4610750.SES.1006814.tif
QUADRANGLE_NAME: MUD BUTTE
QUADRANT: SE
WEST_LONGITUDE: -107 48 45.00000
EAST_LONGITUDE: -107 45 0.00000
NORTH_LATITUDE: 46 11 15.00000
SOUTH_LATITUDE: 46 7 30.00000
PRODUCTION_DATE: 1999 4 23
RASTER_ORDER: LEFT_RIGHT/TOP_BOTTOM
BAND_ORGANIZATION: SINGLE FILE
BAND_CONTENT: BLACK&WHITE
BAND_CONTENT: UNDEFINED
BAND_CONTENT: UNDEFINED
BITS_PER_PIXEL: 8
SAMPLES_AND_LINES: 5722 7716
HORIZONTAL_DATUM: NAD83
HORIZONTAL_COORDINATE_SYSTEM: UTM
COORDINATE_ZONE: 13
HORIZONTAL_UNITS: METERS
HORIZONTAL_RESOLUTION: 1.00000
SECONDARY_HORIZONTAL_DATUM: NAD27
XY_ORIGIN: 282364.00000 5119026.00000
SECONDARY_XY_ORIGIN: 282407.63700 5118808.36400
NATION: US
NATION: "SCIENCE
STATE: MT
NW_QUAD_CORNER_XY: 282961.90800 5118725.84300
NE_QUAD_CORNER_XY: 287784.82400 5118556.77100
SE_QUAD_CORNERY_XY: 287544.25900 5111612.71700
SW_QUAD_CORNER_XY: 282715.86700 5111781.80400
SECONDARY_NW_QUAD_XY: 282955.33300 5118507.86600
SECONDARY_NE_QUAD_XY: 287778.39500 5118338.78900
SECONDARY_SE_QUAD_XY: 287537.83100 5111394.77500
SECONDARY_SW_QUAD_XY: 282709.29300 5111563.86700
RMSE_XY: 1.20000
IMAGE_SOURCE: BLACK AND WHITE FILM
SOURCE_IMAGE_ID: NAPP 9131 280
SOURCE_IMAGE_DATE: 1996 07 29
SOURCE_DEM_DATE: 1973 00 00
AGENCY: WESTERN MAPPING CENTER (WMC)
PRODUCER: UNDEFINED
PRODUCTION_SYSTEM: GIS/MAGIC
COMPRESSION: UNDEFINED
STANDARD_VERSION: 1996 12
METADATA_DATE: 1999 05 18
DATA_FILE_SIZE: 44156674
BYTE_COUNT: 5722
