FILENAME: O4610750.NWS.1006813.tif
QUADRANGLE_NAME: MUD BUTTE
QUADRANT: NW
WEST_LONGITUDE: -107 52 30.00000
EAST_LONGITUDE: -107 48 45.00000
NORTH_LATITUDE: 46 15 0.00000
SOUTH_LATITUDE: 46 11 15.00000
PRODUCTION_DATE: 1999 4 23
RASTER_ORDER: LEFT_RIGHT/TOP_BOTTOM
BAND_ORGANIZATION: SINGLE FILE
BAND_CONTENT: BLACK&WHITE
BAND_CONTENT: UNDEFINED
BAND_CONTENT: UNDEFINED
BITS_PER_PIXEL: 8
SAMPLES_AND_LINES: 5723 7720
HORIZONTAL_DATUM: NAD83
HORIZONTAL_COORDINATE_SYSTEM: UTM
COORDINATE_ZONE: 13
HORIZONTAL_UNITS: METERS
HORIZONTAL_RESOLUTION: 1.00000
SECONDARY_HORIZONTAL_DATUM: NAD27
XY_ORIGIN: 277787.00000 5126143.00000
SECONDARY_XY_ORIGIN: 277830.79300 5125925.52000
NATION: US
NATION: "SCIENCE
STATE: MT
NW_QUAD_CORNER_XY: 278390.78400 5125842.80200
NE_QUAD_CORNER_XY: 283208.20800 5125669.94100
SE_QUAD_CORNERY_XY: 282961.90800 5118725.84300
SW_QUAD_CORNER_XY: 278139.00200 5118898.72100
SECONDARY_NW_QUAD_XY: 278384.06200 5125624.79200
SECONDARY_NE_QUAD_XY: 283201.63200 5125451.92500
SECONDARY_SE_QUAD_XY: 282955.33300 5118507.86600
SECONDARY_SW_QUAD_XY: 278132.28000 5118680.74900
RMSE_XY: 1.40000
IMAGE_SOURCE: BLACK AND WHITE FILM
SOURCE_IMAGE_ID: NAPP 9132 030
SOURCE_IMAGE_DATE: 1996 07 29
SOURCE_IMAGE_ID: NAPP 9151 062
SOURCE_IMAGE_DATE: 1996 09 11
SOURCE_IMAGE_ID: NAPP 9132 029
SOURCE_IMAGE_DATE: 1996 07 29
SOURCE_IMAGE_ID: NAPP 9131 278
SOURCE_IMAGE_DATE: 1996 07 29
SOURCE_DEM_DATE: 1973 00 00
AGENCY: WESTERN MAPPING CENTER (WMC)
PRODUCER: UNDEFINED
PRODUCTION_SYSTEM: GIS/MAGIC
COMPRESSION: UNDEFINED
STANDARD_VERSION: 1996 12
METADATA_DATE: 1999 05 18
DATA_FILE_SIZE: 44187283
BYTE_COUNT: 5723
